BEGIN:VCALENDAR
VERSION:2.0
PRODID:-//www.eeb-karlsruhe.de//NONSGML kigkonsult.se iCalcreator 2.41.92//
CALSCALE:GREGORIAN
METHOD:PUBLISH
UID:64366331-6435-4135-b835-393465633435
X-WR-TIMEZONE:Europe/Berlin
X-LIC-LOCATION:Europe/Berlin
BEGIN:VTIMEZONE
TZID:Europe/Berlin
BEGIN:DAYLIGHT
TZOFFSETFROM:+0100
TZOFFSETTO:+0200
TZNAME:CEST
DTSTART:19700329T020000
RRULE:FREQ=YEARLY;BYDAY=-1SU;BYMONTH=3
END:DAYLIGHT
BEGIN:STANDARD
TZOFFSETFROM:+0200
TZOFFSETTO:+0100
TZNAME:CET
DTSTART:19701025T030000
RRULE:FREQ=YEARLY;BYDAY=-1SU;BYMONTH=10
END:STANDARD
END:VTIMEZONE
BEGIN:VEVENT
UID:62323837-6166-4264-a530-323362326463
DTSTAMP:20260421T135340Z
DESCRIPTION:… und wenn Gott doch nicht nur lieb ist? - Was bedeutet die Red
 e vom Gericht?\n \n Die Vorstellung vom endzeitlichen Gericht hat seinen f
 esten Platz sowohl im Neuen Testament als auch in unserem Glaubensbekenntn
 is. Zugleich stößt sie sich mit der alles überragenden Kernaussage unseres
  Glaubens von der bedingungslosen Liebe Gottes.\n \n Veranstaltungsort:\n 
 Online-Veranstaltung\n \n Veranstalter:\n EEB Karlsruhe\n Telefon: 0721 16
 71201
DTSTART;TZID=Europe/Berlin:20260611T190000
DTEND;TZID=Europe/Berlin:20260611T203000
LOCATION:Online-Veranstaltung
SUMMARY:Online-Reihe: GLAUBEN DENKEN
X-ALT-DESC;FMTTYPE=text/html:… und wenn Gott doch nicht nur lieb ist? - Was
  bedeutet die Rede vom Gericht?<br /><br />Die Vorstellung vom endzeitlich
 en Gericht hat seinen festen Platz sowohl im Neuen Testament als auch in u
 nserem Glaubensbekenntnis. Zugleich stößt sie sich mit der alles überragen
 den Kernaussage unseres Glaubens von der bedingungslosen Liebe Gottes.<br 
 /><br />Veranstaltungsort: <br />Online-Veranstaltung<br /><br />Veranstal
 ter: <br />EEB Karlsruhe<br />Telefon: 0721 1671201
END:VEVENT
END:VCALENDAR
