BEGIN:VCALENDAR
VERSION:2.0
PRODID:-//www.eeb-karlsruhe.de//NONSGML kigkonsult.se iCalcreator 2.41.92//
CALSCALE:GREGORIAN
METHOD:PUBLISH
UID:62336533-3330-4761-a566-336165343665
X-WR-TIMEZONE:Europe/Berlin
X-LIC-LOCATION:Europe/Berlin
BEGIN:VTIMEZONE
TZID:Europe/Berlin
BEGIN:DAYLIGHT
TZOFFSETFROM:+0100
TZOFFSETTO:+0200
TZNAME:CEST
DTSTART:19700329T020000
RRULE:FREQ=YEARLY;BYDAY=-1SU;BYMONTH=3
END:DAYLIGHT
BEGIN:STANDARD
TZOFFSETFROM:+0200
TZOFFSETTO:+0100
TZNAME:CET
DTSTART:19701025T030000
RRULE:FREQ=YEARLY;BYDAY=-1SU;BYMONTH=10
END:STANDARD
END:VTIMEZONE
BEGIN:VEVENT
UID:62646135-6362-4232-b564-646333666165
DTSTAMP:20260421T163158Z
DESCRIPTION:Basisorientierung digital für Kirchenälteste\n \n Wie können Ve
 rantwortliche in Gemeinden/Kooperationsräumen miteinander gottesdienstlich
 e Vielfalt bewusst planen und verlässlich kommunizieren?\n \n Veranstaltun
 gsort:\n Online-Veranstaltung\n \n Veranstalter:\n EEB Karlsruhe\, Ökumeni
 sches Bildungszentrum sanctclara Mannheim und Abt. Evangelische Erwachsene
 nbildung und Geschlechterdialog im Evang. Oberkirchenrat\n Telefon: 072116
 71201
DTSTART;TZID=Europe/Berlin:20260706T190000
DTEND;TZID=Europe/Berlin:20260706T203000
LOCATION:Online-Veranstaltung
SUMMARY:Regionale Gottesdienstkonzepte entwickeln
X-ALT-DESC;FMTTYPE=text/html:Basisorientierung digital für Kirchenälteste<b
 r /><br />Wie können Verantwortliche in Gemeinden/Kooperationsräumen mitei
 nander gottesdienstliche Vielfalt bewusst planen und verlässlich kommunizi
 eren?<br /><br />Veranstaltungsort: <br />Online-Veranstaltung<br /><br />
 Veranstalter: <br />EEB Karlsruhe\, Ökumenisches Bildungszentrum sanctclar
 a Mannheim und Abt. Evangelische Erwachsenenbildung und Geschlechterdialog
  im Evang. Oberkirchenrat<br />Telefon: 07211671201
END:VEVENT
END:VCALENDAR
