BEGIN:VCALENDAR
VERSION:2.0
PRODID:-//www.eeb-karlsruhe.de//NONSGML kigkonsult.se iCalcreator 2.41.92//
CALSCALE:GREGORIAN
METHOD:PUBLISH
UID:33646330-3664-4138-a462-366164646464
X-WR-TIMEZONE:Europe/Berlin
X-LIC-LOCATION:Europe/Berlin
BEGIN:VTIMEZONE
TZID:Europe/Berlin
BEGIN:DAYLIGHT
TZOFFSETFROM:+0100
TZOFFSETTO:+0200
TZNAME:CEST
DTSTART:19700329T020000
RRULE:FREQ=YEARLY;BYDAY=-1SU;BYMONTH=3
END:DAYLIGHT
BEGIN:STANDARD
TZOFFSETFROM:+0200
TZOFFSETTO:+0100
TZNAME:CET
DTSTART:19701025T030000
RRULE:FREQ=YEARLY;BYDAY=-1SU;BYMONTH=10
END:STANDARD
END:VTIMEZONE
BEGIN:VEVENT
UID:61633435-6639-4630-a261-333662393232
DTSTAMP:20260421T135309Z
DESCRIPTION:'Basisorientierung digital' für Kirchenälteste\n \n Der Worksho
 p gibt einen Überblick über die verschiedenen Kanäle der Öffentlichkeitsar
 beit in Kirchengemeinden und Kooperationsräumen (vom Gemeindebrief über di
 e eigene Website bis zur Gemeinde-App Churchpool). Er soll dazu ermutigen\
 , neue Wege auszuprobieren\, und zeigen\, was die Arbeit unterstützen kann
 .\n \n Veranstaltungsort:\n Online-Veranstaltung\n \n Veranstalter:\n EEB 
 Karlsruhe\, Ökumenisches Bildungszentrum sanctclara Mannheim und Abt. Evan
 gelische Erwachsenenbildung und Geschlechterdialog im Evang. Oberkirchenra
 t\n Telefon: 07211671201
DTSTART;TZID=Europe/Berlin:20260617T190000
DTEND;TZID=Europe/Berlin:20260617T203000
LOCATION:Online-Veranstaltung
SUMMARY:Öffentlichkeitsarbeit in Gemeinde und Kooperationsraum
X-ALT-DESC;FMTTYPE=text/html:'Basisorientierung digital' für Kirchenälteste
 <br /><br />Der Workshop gibt einen Überblick über die verschiedenen Kanäl
 e der Öffentlichkeitsarbeit in Kirchengemeinden und Kooperationsräumen (vo
 m Gemeindebrief über die eigene Website bis zur Gemeinde-App Churchpool). 
 Er soll dazu ermutigen\, neue Wege auszuprobieren\, und zeigen\, was die A
 rbeit unterstützen kann.<br /><br />Veranstaltungsort: <br />Online-Verans
 taltung<br /><br />Veranstalter: <br />EEB Karlsruhe\, Ökumenisches Bildun
 gszentrum sanctclara Mannheim und Abt. Evangelische Erwachsenenbildung und
  Geschlechterdialog im Evang. Oberkirchenrat<br />Telefon: 07211671201
END:VEVENT
END:VCALENDAR
