BEGIN:VCALENDAR
VERSION:2.0
PRODID:-//www.eeb-karlsruhe.de//NONSGML kigkonsult.se iCalcreator 2.41.92//
CALSCALE:GREGORIAN
METHOD:PUBLISH
UID:33393337-3965-4231-a263-306139643338
X-WR-TIMEZONE:Europe/Berlin
X-LIC-LOCATION:Europe/Berlin
BEGIN:VTIMEZONE
TZID:Europe/Berlin
BEGIN:DAYLIGHT
TZOFFSETFROM:+0100
TZOFFSETTO:+0200
TZNAME:CEST
DTSTART:19700329T020000
RRULE:FREQ=YEARLY;BYDAY=-1SU;BYMONTH=3
END:DAYLIGHT
BEGIN:STANDARD
TZOFFSETFROM:+0200
TZOFFSETTO:+0100
TZNAME:CET
DTSTART:19701025T030000
RRULE:FREQ=YEARLY;BYDAY=-1SU;BYMONTH=10
END:STANDARD
END:VTIMEZONE
BEGIN:VEVENT
UID:61653132-3036-4030-a338-383161363766
DTSTAMP:20260421T124648Z
DESCRIPTION:'Basisorientierung digital' für Kirchenälteste\n \n Referentin:
  Silke Urschel\, Kirchenoberrechtsrätin im Evangelischen Oberkirchenrat Ka
 rlsruhe\n \n Veranstaltungsort:\n Online-Veranstaltung\n \n Veranstalter:
 \n EEB Karlsruhe\, Ökumenisches Bildungszentrum sanctclara Mannheim und Ab
 t. Evangelische Erwachsenenbildung und Geschlechterdialog im Evang. Oberki
 rchenrat\n Telefon: 07211671201
DTSTART;TZID=Europe/Berlin:20260715T190000
DTEND;TZID=Europe/Berlin:20260715T203000
LOCATION:Online-Veranstaltung
SUMMARY:Zusammenarbeit von Pfarrpersonen und Ältestenkreis - rechtliche Asp
 ekte
X-ALT-DESC;FMTTYPE=text/html:'Basisorientierung digital' für Kirchenälteste
 <br /><br />Referentin: Silke Urschel\, Kirchenoberrechtsrätin im Evangeli
 schen Oberkirchenrat Karlsruhe<br /><br />Veranstaltungsort: <br />Online-
 Veranstaltung<br /><br />Veranstalter: <br />EEB Karlsruhe\, Ökumenisches 
 Bildungszentrum sanctclara Mannheim und Abt. Evangelische Erwachsenenbildu
 ng und Geschlechterdialog im Evang. Oberkirchenrat<br />Telefon: 072116712
 01
END:VEVENT
END:VCALENDAR
