BEGIN:VCALENDAR
VERSION:2.0
PRODID:-//www.eeb-karlsruhe.de//NONSGML kigkonsult.se iCalcreator 2.41.92//
CALSCALE:GREGORIAN
METHOD:PUBLISH
UID:30396639-3839-4761-b565-383634626133
X-WR-TIMEZONE:Europe/Berlin
X-LIC-LOCATION:Europe/Berlin
BEGIN:VTIMEZONE
TZID:Europe/Berlin
BEGIN:DAYLIGHT
TZOFFSETFROM:+0100
TZOFFSETTO:+0200
TZNAME:CEST
DTSTART:19700329T020000
RRULE:FREQ=YEARLY;BYDAY=-1SU;BYMONTH=3
END:DAYLIGHT
BEGIN:STANDARD
TZOFFSETFROM:+0200
TZOFFSETTO:+0100
TZNAME:CET
DTSTART:19701025T030000
RRULE:FREQ=YEARLY;BYDAY=-1SU;BYMONTH=10
END:STANDARD
END:VTIMEZONE
BEGIN:VEVENT
UID:30316539-3638-4834-b365-303332666430
DTSTAMP:20260421T124629Z
DESCRIPTION:'Basisorientierung digital' für Kirchenälteste\n \n Referentin:
  Nicole Gutknecht\, Kommissarische Leiterin des Referats Recht und Rechnun
 gsprüfung und Abteilungsleitung Recht im Evangelischen Oberkirchenrat Karl
 sruhe\n \n Veranstaltungsort:\n Online-Veranstaltung\n \n Veranstalter:\n 
 EEB Karlsruhe\, Ökumenisches Bildungszentrum sanctclara Mannheim und Abt. 
 Evangelische Erwachsenenbildung und Geschlechterdialog im Evang. Oberkirch
 enrat\n Telefon: 07211671201
DTSTART;TZID=Europe/Berlin:20260709T190000
DTEND;TZID=Europe/Berlin:20260709T203000
LOCATION:Online-Veranstaltung
SUMMARY:Einführung in Aufbau\, Grundordnung und Gremien der Evang. Landeski
 rche in Baden
X-ALT-DESC;FMTTYPE=text/html:'Basisorientierung digital' für Kirchenälteste
 <br /><br />Referentin: Nicole Gutknecht\, Kommissarische Leiterin des Ref
 erats Recht und Rechnungsprüfung und Abteilungsleitung Recht im Evangelisc
 hen Oberkirchenrat Karlsruhe<br /><br />Veranstaltungsort: <br />Online-Ve
 ranstaltung<br /><br />Veranstalter: <br />EEB Karlsruhe\, Ökumenisches Bi
 ldungszentrum sanctclara Mannheim und Abt. Evangelische Erwachsenenbildung
  und Geschlechterdialog im Evang. Oberkirchenrat<br />Telefon: 07211671201
END:VEVENT
END:VCALENDAR
