BEGIN:VCALENDAR
VERSION:2.0
PRODID:-//www.eeb-karlsruhe.de//NONSGML kigkonsult.se iCalcreator 2.41.92//
CALSCALE:GREGORIAN
METHOD:PUBLISH
UID:32643332-3234-4337-b862-656333633431
X-WR-TIMEZONE:Europe/Berlin
X-LIC-LOCATION:Europe/Berlin
BEGIN:VTIMEZONE
TZID:Europe/Berlin
BEGIN:DAYLIGHT
TZOFFSETFROM:+0100
TZOFFSETTO:+0200
TZNAME:CEST
DTSTART:19700329T020000
RRULE:FREQ=YEARLY;BYDAY=-1SU;BYMONTH=3
END:DAYLIGHT
BEGIN:STANDARD
TZOFFSETFROM:+0200
TZOFFSETTO:+0100
TZNAME:CET
DTSTART:19701025T030000
RRULE:FREQ=YEARLY;BYDAY=-1SU;BYMONTH=10
END:STANDARD
END:VTIMEZONE
BEGIN:VEVENT
UID:31353233-3961-4837-b932-613635653639
DTSTAMP:20260421T212530Z
DESCRIPTION:Ein Besuch im Haus der Astronomie auf dem Königstuhl in Heidelb
 erg\n \n Das Haus der Astronomie (HdA) wurde 2008 als Zentrum für astronom
 ische Bildungs- und Öffentlichkeitsarbeit von der Max-Planck-Gesellschaft 
 und der Klaus-Tschira-Stiftung gegründet mit dem Ziel\, die Faszination de
 r Astronomie in die breite Öffentlichkeit zu tragen. Wir werden dort als g
 eschlossene Gruppe eine Vorführung im hochmodernen digitalen und interakti
 ven Zeiss-Planetarium erhalten. Lehnen Sie sich zurück\, fliegen Sie bis a
 ns Ende des Weltalls und erfahren Sie unterwegs alles\, was Sie schon imme
 r über das Universum wissen wollten. Die Bilder\, die hierbei an der Plane
 tariumskuppel gezeigt werden\, sind aus realen Aufnahmen von Weltraumteles
 kopen und Raumsonden zusammengesetzt. Details zur Anreise erfahren Sie nac
 h der Anmeldung.\n \n Veranstaltungsort:\n Haus der Astronomie\n Heidelber
 g\, Königstuhl 17\, MPIA-Campus\n \n Veranstalter:\n junge alte\n Karlsruh
 e\n https://www.jungealte.info
DTSTART;TZID=Europe/Berlin:20260709T103000
DTEND;TZID=Europe/Berlin:20260709T120000
LOCATION:Haus der Astronomie\n - Heidelberg\, Königstuhl 17\, MPIA-Campus
SUMMARY:Reise durch das Universum
X-ALT-DESC;FMTTYPE=text/html:Ein Besuch im Haus der Astronomie auf dem Köni
 gstuhl in Heidelberg<br /><br />Das Haus der Astronomie (HdA) wurde 2008 a
 ls Zentrum für astronomische Bildungs- und Öffentlichkeitsarbeit von der M
 ax-Planck-Gesellschaft und der Klaus-Tschira-Stiftung gegründet mit dem Zi
 el\, die Faszination der Astronomie in die breite Öffentlichkeit zu tragen
 .\n Wir werden dort als geschlossene Gruppe eine Vorführung im hochmoderne
 n digitalen und interaktiven Zeiss-Planetarium erhalten. Lehnen Sie sich z
 urück\, fliegen Sie bis ans Ende des Weltalls und erfahren Sie unterwegs a
 lles\, was Sie schon immer über das Universum wissen wollten. Die Bilder\,
  die hierbei an der Planetariumskuppel gezeigt werden\, sind aus realen Au
 fnahmen von Weltraumteleskopen und Raumsonden zusammengesetzt.\n Details z
 ur Anreise erfahren Sie nach der Anmeldung.<br /><br />Veranstaltungsort: 
 <br />Haus der Astronomie<br />Heidelberg\, Königstuhl 17\, MPIA-Campus<br
  /><br />Veranstalter: <br />junge alte<br />Karlsruhe<br />https://www.ju
 ngealte.info
END:VEVENT
END:VCALENDAR
