BEGIN:VCALENDAR
VERSION:2.0
PRODID:-//www.eeb-karlsruhe.de//NONSGML kigkonsult.se iCalcreator 2.41.92//
CALSCALE:GREGORIAN
METHOD:PUBLISH
UID:36613738-6639-4536-b338-616364363735
X-WR-TIMEZONE:Europe/Berlin
X-LIC-LOCATION:Europe/Berlin
BEGIN:VTIMEZONE
TZID:Europe/Berlin
BEGIN:DAYLIGHT
TZOFFSETFROM:+0100
TZOFFSETTO:+0200
TZNAME:CEST
DTSTART:19700329T020000
RRULE:FREQ=YEARLY;BYDAY=-1SU;BYMONTH=3
END:DAYLIGHT
BEGIN:STANDARD
TZOFFSETFROM:+0200
TZOFFSETTO:+0100
TZNAME:CET
DTSTART:19701025T030000
RRULE:FREQ=YEARLY;BYDAY=-1SU;BYMONTH=10
END:STANDARD
END:VTIMEZONE
BEGIN:VEVENT
UID:34666466-3138-4162-a434-616533656232
DTSTAMP:20260421T223338Z
DESCRIPTION:Ein landschaftliches Parkkonzept für die Karlsruher Rheinauen\n
  \n Der Landschaftspark Rhein bildet das planerische Rückgrat und das Hand
 lungskonzept für attraktive Naturerlebnisräume. Zum Stadtjubiläum 2015 sin
 d wesentliche Teile des Rheinufers v.a. um das Hofgut Maxau fertiggestellt
  worden. Weitere Visionen warten noch auf eine Realisierung. Wir besichtig
 en das jüngste Karlsruher Parkprojekt\, bei dem Natur\, Erholung und Techn
 ik in einem interessanten Wechselspiel miteinander stehen. Auch Rheinkorre
 ktur und Gewässersanierungsmaßnahmen werden thematisiert.\n \n Veranstaltu
 ngsort:\n Karlsruhe Oststadt\n \n Veranstalter:\n junge alte\n Karlsruhe\n
  https://www.jungealte.info
DTSTART;TZID=Europe/Berlin:20260618T150000
DTEND;TZID=Europe/Berlin:20260618T173000
LOCATION:Karlsruhe Oststadt
SUMMARY:Der Landschaftspark Rhein
X-ALT-DESC;FMTTYPE=text/html:Ein landschaftliches Parkkonzept für die Karls
 ruher Rheinauen<br /><br />Der Landschaftspark Rhein bildet das planerisch
 e Rückgrat und das Handlungskonzept für attraktive Naturerlebnisräume.\n Z
 um Stadtjubiläum 2015 sind wesentliche Teile des Rheinufers v.a. um das Ho
 fgut Maxau fertiggestellt worden. Weitere Visionen warten noch auf eine Re
 alisierung.\n Wir besichtigen das jüngste Karlsruher Parkprojekt\, bei dem
  Natur\, Erholung und Technik in einem interessanten Wechselspiel miteinan
 der stehen. Auch Rheinkorrektur und Gewässersanierungsmaßnahmen werden the
 matisiert.<br /><br />Veranstaltungsort: <br />Karlsruhe Oststadt<br /><br
  />Veranstalter: <br />junge alte<br />Karlsruhe<br />https://www.jungealt
 e.info
END:VEVENT
END:VCALENDAR
