BEGIN:VCALENDAR
VERSION:2.0
PRODID:-//www.eeb-karlsruhe.de//NONSGML kigkonsult.se iCalcreator 2.41.92//
CALSCALE:GREGORIAN
METHOD:PUBLISH
UID:66626535-3538-4763-a234-333331656532
X-WR-TIMEZONE:Europe/Berlin
X-LIC-LOCATION:Europe/Berlin
BEGIN:VTIMEZONE
TZID:Europe/Berlin
BEGIN:DAYLIGHT
TZOFFSETFROM:+0100
TZOFFSETTO:+0200
TZNAME:CEST
DTSTART:19700329T020000
RRULE:FREQ=YEARLY;BYDAY=-1SU;BYMONTH=3
END:DAYLIGHT
BEGIN:STANDARD
TZOFFSETFROM:+0200
TZOFFSETTO:+0100
TZNAME:CET
DTSTART:19701025T030000
RRULE:FREQ=YEARLY;BYDAY=-1SU;BYMONTH=10
END:STANDARD
END:VTIMEZONE
BEGIN:VEVENT
UID:63666137-6632-4830-a664-613139383234
DTSTAMP:20260421T223731Z
DESCRIPTION:Urban Art\, Streetart\, Murals\, Tags\, Graffiti - was untersch
 eidet diese Formen der Straßenkunst und woher stammen sie überhaupt? Und w
 elche Kunstformen und Künstler*innen sind in Karlsruhe besonders aktiv? Au
 f einer Entdeckertour durch die Oststadt sehen wir uns verschiedene Street
 art-Werke an: vom Graffiti über einige im Rahmen eines Festivals entstande
 ne Auftragswerke bis hin zum großformatigen Mural an der Hoepfner-Burg\, e
 inem ganz besonderen Highlight einer britischen Künstlerin. Interessant au
 ch das Café Riot Ost\, ein Sprayercafé. Die Oststadt ist bunt!\n \n Verans
 taltungsort:\n Karlsruhe Oststadt\n \n Veranstalter:\n junge alte\n Karlsr
 uhe\n https://www.jungealte.info
DTSTART;TZID=Europe/Berlin:20260521T100000
DTEND;TZID=Europe/Berlin:20260521T120000
LOCATION:Karlsruhe Oststadt
SUMMARY:Streetart in der Karlsruher Oststadt
X-ALT-DESC;FMTTYPE=text/html:Urban Art\, Streetart\, Murals\, Tags\, Graffi
 ti - was unterscheidet diese Formen der Straßenkunst und woher stammen sie
  überhaupt? Und welche Kunstformen und Künstler*innen sind in Karlsruhe be
 sonders aktiv? Auf einer Entdeckertour durch die Oststadt sehen wir uns ve
 rschiedene Streetart-Werke an: vom Graffiti über einige im Rahmen eines Fe
 stivals entstandene Auftragswerke bis hin zum großformatigen Mural an der 
 Hoepfner-Burg\, einem ganz besonderen Highlight einer britischen Künstleri
 n. Interessant auch das Café Riot Ost\, ein Sprayercafé. Die Oststadt ist 
 bunt!<br /><br />Veranstaltungsort: <br />Karlsruhe Oststadt<br /><br />Ve
 ranstalter: <br />junge alte<br />Karlsruhe<br />https://www.jungealte.inf
 o
END:VEVENT
END:VCALENDAR
