BEGIN:VCALENDAR
VERSION:2.0
PRODID:-//www.eeb-karlsruhe.de//NONSGML kigkonsult.se iCalcreator 2.41.92//
CALSCALE:GREGORIAN
METHOD:PUBLISH
UID:32383730-3234-4566-b836-323337326464
X-WR-TIMEZONE:Europe/Berlin
X-LIC-LOCATION:Europe/Berlin
BEGIN:VTIMEZONE
TZID:Europe/Berlin
BEGIN:DAYLIGHT
TZOFFSETFROM:+0100
TZOFFSETTO:+0200
TZNAME:CEST
DTSTART:19700329T020000
RRULE:FREQ=YEARLY;BYDAY=-1SU;BYMONTH=3
END:DAYLIGHT
BEGIN:STANDARD
TZOFFSETFROM:+0200
TZOFFSETTO:+0100
TZNAME:CET
DTSTART:19701025T030000
RRULE:FREQ=YEARLY;BYDAY=-1SU;BYMONTH=10
END:STANDARD
END:VTIMEZONE
BEGIN:VEVENT
UID:31633765-3637-4164-a461-393066323530
DTSTAMP:20260421T213431Z
DESCRIPTION:Der gefeierte Dirigent Thibaut ist an Leukämie erkrankt und bra
 ucht dringend einen Knochenmarkspender. Als er erfährt\, dass er adoptiert
  wurde\, begibt er sich auf die Suche nach Familienangehörigen\, die ihm m
 it ihrer Spende helfen könnten. Dabei lernt er seinen Bruder Jimmy kennen\
 , der in einer Schulkantine arbeitet und in einer Blaskapelle in Nordfrank
 reich die Posaune spielt. Bald entdeckt Thibaut die außergewöhnlichen musi
 kalischen Fähigkeiten seines Bruders.\n \n Veranstaltungsort:\n Kinemathek
  Karlsruhe e.V.\n Kaiserpassage 6\n 76133 Karlsruhe\n \n Veranstalter:\n j
 unge alte und Kinemathek Karlsruhe e.V.\n https://www.jungealte.info/
DTSTART;TZID=Europe/Berlin:20260625T150000
DTEND;TZID=Europe/Berlin:20260625T170000
LOCATION:Kinemathek Karlsruhe e.V.\n - Kaiserpassage 6\n - 76133 Karlsruhe
SUMMARY:Kinotreff in der Kinemathek: 'Die leisen und die großen Töne\, dt. 
 Fassung'
X-ALT-DESC;FMTTYPE=text/html:Der gefeierte Dirigent Thibaut ist an Leukämie
  erkrankt und braucht dringend einen Knochenmarkspender. Als er erfährt\, 
 dass er adoptiert wurde\, begibt er sich auf die Suche nach Familienangehö
 rigen\, die ihm mit ihrer Spende helfen könnten. Dabei lernt er seinen Bru
 der Jimmy kennen\, der in einer Schulkantine arbeitet und in einer Blaskap
 elle in Nordfrankreich die Posaune spielt. Bald entdeckt Thibaut die außer
 gewöhnlichen musikalischen Fähigkeiten seines Bruders.<br /><br />Veransta
 ltungsort: <br />Kinemathek Karlsruhe e.V.<br />Kaiserpassage 6<br />76133
  Karlsruhe<br /><br />Veranstalter: <br />junge alte und Kinemathek Karlsr
 uhe e.V.<br />https://www.jungealte.info/
END:VEVENT
END:VCALENDAR
