BEGIN:VCALENDAR
VERSION:2.0
PRODID:-//www.eeb-karlsruhe.de//NONSGML kigkonsult.se iCalcreator 2.41.92//
CALSCALE:GREGORIAN
METHOD:PUBLISH
UID:38303363-3863-4236-a262-363265313564
X-WR-TIMEZONE:Europe/Berlin
X-LIC-LOCATION:Europe/Berlin
BEGIN:VTIMEZONE
TZID:Europe/Berlin
BEGIN:DAYLIGHT
TZOFFSETFROM:+0100
TZOFFSETTO:+0200
TZNAME:CEST
DTSTART:19700329T020000
RRULE:FREQ=YEARLY;BYDAY=-1SU;BYMONTH=3
END:DAYLIGHT
BEGIN:STANDARD
TZOFFSETFROM:+0200
TZOFFSETTO:+0100
TZNAME:CET
DTSTART:19701025T030000
RRULE:FREQ=YEARLY;BYDAY=-1SU;BYMONTH=10
END:STANDARD
END:VTIMEZONE
BEGIN:VEVENT
UID:66353931-3934-4764-b264-663731363266
DTSTAMP:20260421T223949Z
DESCRIPTION:Die Geschichte einer Liebe erzählen Antje Starost und Hans-Helm
 ut Grotjahn\, indem sie sich dem Briefwechsel von Freya Deichmann\, der sp
 äteren Freya Gräfin von Moltke\, und Helmuth James Graf von Moltke widmen.
  Die 18-jährige Freya begegnet Helmuth erstmals 1929 und verliebt sich sof
 ort in ihren späteren Ehemann. 1940 gründen sie eine Gruppe\, die über ein
  demokratisches Leben nach dem Nationalsozialismus nachdachte\, aus der sc
 hließlich der Kreisauer Kreis entstand. Als Helmuth inhaftiert wurde\, erm
 öglichte der Gefängnis-Pfarrer es den beiden\, durch eingeschmuggelte Brie
 fe bis zu Helmuths Hinrichtung in Kontakt zu bleiben.\n \n Veranstaltungso
 rt:\n Kinemathek Karlsruhe e.V.\n Kaiserpassage 6\n 76133 Karlsruhe\n \n V
 eranstalter:\n junge alte und Kinemathek Karlsruhe e.V.\n https://www.jung
 ealte.info/
DTSTART;TZID=Europe/Berlin:20260528T150000
DTEND;TZID=Europe/Berlin:20260528T170000
LOCATION:Kinemathek Karlsruhe e.V.\n - Kaiserpassage 6\n - 76133 Karlsruhe
SUMMARY:Kinotreff in der Kinemathek: 'Geschichte einer Liebe - Freya'
X-ALT-DESC;FMTTYPE=text/html:Die Geschichte einer Liebe erzählen Antje Star
 ost und Hans-Helmut Grotjahn\, indem sie sich dem Briefwechsel von Freya D
 eichmann\, der späteren Freya Gräfin von Moltke\, und Helmuth James Graf v
 on Moltke widmen. Die 18-jährige Freya begegnet Helmuth erstmals 1929 und 
 verliebt sich sofort in ihren späteren Ehemann. 1940 gründen sie eine Grup
 pe\, die über ein demokratisches Leben nach dem Nationalsozialismus nachda
 chte\, aus der schließlich der Kreisauer Kreis entstand. Als Helmuth inhaf
 tiert wurde\, ermöglichte der Gefängnis-Pfarrer es den beiden\, durch eing
 eschmuggelte Briefe bis zu Helmuths Hinrichtung in Kontakt zu bleiben.<br 
 /><br />Veranstaltungsort: <br />Kinemathek Karlsruhe e.V.<br />Kaiserpass
 age 6<br />76133 Karlsruhe<br /><br />Veranstalter: <br />junge alte und K
 inemathek Karlsruhe e.V.<br />https://www.jungealte.info/
END:VEVENT
END:VCALENDAR
