BEGIN:VCALENDAR
VERSION:2.0
PRODID:-//www.eeb-karlsruhe.de//NONSGML kigkonsult.se iCalcreator 2.41.92//
CALSCALE:GREGORIAN
METHOD:PUBLISH
UID:62623365-6537-4432-b031-366362343531
X-WR-TIMEZONE:Europe/Berlin
X-LIC-LOCATION:Europe/Berlin
BEGIN:VTIMEZONE
TZID:Europe/Berlin
BEGIN:DAYLIGHT
TZOFFSETFROM:+0100
TZOFFSETTO:+0200
TZNAME:CEST
DTSTART:19700329T020000
RRULE:FREQ=YEARLY;BYDAY=-1SU;BYMONTH=3
END:DAYLIGHT
BEGIN:STANDARD
TZOFFSETFROM:+0200
TZOFFSETTO:+0100
TZNAME:CET
DTSTART:19701025T030000
RRULE:FREQ=YEARLY;BYDAY=-1SU;BYMONTH=10
END:STANDARD
END:VTIMEZONE
BEGIN:VEVENT
UID:37366462-6163-4639-a135-316234623162
DTSTAMP:20260421T212859Z
DESCRIPTION:'Der stille Freund' von Ferdinand von Schirach Leitung: Juliane
  Aschoff Sekretariat Evangelische Erwachsenenbildung: Telefon 0721/167-120
 1\n \n Veranstaltungsort:\n Gemeindehaus Am Zwinger 5\n Seminarraum\, 3. S
 tock\n Am Zwinger 5\n Karlsruhe-Durlach\n KVV Tram 1 Haltestelle Friedrich
 schule\n \n Veranstalter:\n junge alte\n Karlsruhe\n https://www.jungealte
 .info
DTSTART;TZID=Europe/Berlin:20260713T150000
DTEND;TZID=Europe/Berlin:20260713T170000
LOCATION:Gemeindehaus Am Zwinger 5\n - Seminarraum\, 3. Stock\n - Am Zwinge
 r 5\n - Karlsruhe-Durlach\n - KVV Tram 1 Haltestelle Friedrichschule
SUMMARY:Literaturcafé - Ferdinand von Schirach - Der stille Freund
X-ALT-DESC;FMTTYPE=text/html:'Der stille Freund' von Ferdinand von Schirach
 \n \n Leitung: Juliane Aschoff\n \n Sekretariat Evangelische Erwachsenenbi
 ldung: Telefon 0721/167-1201<br /><br />Veranstaltungsort: <br />Gemeindeh
 aus Am Zwinger 5<br />Seminarraum\, 3. Stock<br />Am Zwinger 5<br />Karlsr
 uhe-Durlach<br />KVV Tram 1 Haltestelle Friedrichschule<br /><br />Veranst
 alter: <br />junge alte<br />Karlsruhe<br />https://www.jungealte.info
END:VEVENT
END:VCALENDAR
