BEGIN:VCALENDAR
VERSION:2.0
PRODID:-//www.eeb-karlsruhe.de//NONSGML kigkonsult.se iCalcreator 2.41.92//
CALSCALE:GREGORIAN
METHOD:PUBLISH
UID:62353036-3638-4133-b939-646164353336
X-WR-TIMEZONE:Europe/Berlin
X-LIC-LOCATION:Europe/Berlin
BEGIN:VTIMEZONE
TZID:Europe/Berlin
BEGIN:DAYLIGHT
TZOFFSETFROM:+0100
TZOFFSETTO:+0200
TZNAME:CEST
DTSTART:19700329T020000
RRULE:FREQ=YEARLY;BYDAY=-1SU;BYMONTH=3
END:DAYLIGHT
BEGIN:STANDARD
TZOFFSETFROM:+0200
TZOFFSETTO:+0100
TZNAME:CET
DTSTART:19701025T030000
RRULE:FREQ=YEARLY;BYDAY=-1SU;BYMONTH=10
END:STANDARD
END:VTIMEZONE
BEGIN:VEVENT
UID:38326232-3736-4132-b731-383239333933
DTSTAMP:20260421T234744Z
DESCRIPTION:'Die neuen Leiden des jungen Werther' von Ulrich Plenzdorf Leit
 ung: Gudrun Reiß Sekretariat Evangelische Erwachsenenbildung: Telefon 0721
 /167-1201\n \n Veranstaltungsort:\n Gemeindehaus Am Zwinger 5\n Seminarrau
 m\, 3. Stock\n Am Zwinger 5\n Karlsruhe-Durlach\n KVV Tram 1 Haltestelle F
 riedrichschule\n \n Veranstalter:\n junge alte\n Karlsruhe\n https://www.j
 ungealte.info
DTSTART;TZID=Europe/Berlin:20260608T150000
DTEND;TZID=Europe/Berlin:20260608T170000
LOCATION:Gemeindehaus Am Zwinger 5\n - Seminarraum\, 3. Stock\n - Am Zwinge
 r 5\n - Karlsruhe-Durlach\n - KVV Tram 1 Haltestelle Friedrichschule
SUMMARY:Literaturcafé - Ulrich Plenzdorf - Die neuen Leiden des jungen Wert
 her
X-ALT-DESC;FMTTYPE=text/html:'Die neuen Leiden des jungen Werther' von Ulri
 ch Plenzdorf\n \n Leitung: Gudrun Reiß\n \n Sekretariat Evangelische Erwac
 hsenenbildung: Telefon 0721/167-1201<br /><br />Veranstaltungsort: <br />G
 emeindehaus Am Zwinger 5<br />Seminarraum\, 3. Stock<br />Am Zwinger 5<br 
 />Karlsruhe-Durlach<br />KVV Tram 1 Haltestelle Friedrichschule<br /><br /
 >Veranstalter: <br />junge alte<br />Karlsruhe<br />https://www.jungealte.
 info
END:VEVENT
END:VCALENDAR
