BEGIN:VCALENDAR
VERSION:2.0
PRODID:-//www.eeb-karlsruhe.de//NONSGML kigkonsult.se iCalcreator 2.41.92//
CALSCALE:GREGORIAN
METHOD:PUBLISH
UID:30666130-6466-4136-b761-653738353361
X-WR-TIMEZONE:Europe/Berlin
X-LIC-LOCATION:Europe/Berlin
BEGIN:VTIMEZONE
TZID:Europe/Berlin
BEGIN:DAYLIGHT
TZOFFSETFROM:+0100
TZOFFSETTO:+0200
TZNAME:CEST
DTSTART:19700329T020000
RRULE:FREQ=YEARLY;BYDAY=-1SU;BYMONTH=3
END:DAYLIGHT
BEGIN:STANDARD
TZOFFSETFROM:+0200
TZOFFSETTO:+0100
TZNAME:CET
DTSTART:19701025T030000
RRULE:FREQ=YEARLY;BYDAY=-1SU;BYMONTH=10
END:STANDARD
END:VTIMEZONE
BEGIN:VEVENT
UID:30343136-6534-4664-b464-366662326637
DTSTAMP:20260421T234907Z
DESCRIPTION:'Die Leiden des jungen Werther' von Johann Wolfgang von Goethe 
 Leitung: Gudrun Reiß Sekretariat Evangelische Erwachsenenbildung: Telefon 
 0721/167-1201\n \n Veranstaltungsort:\n Gemeindehaus Am Zwinger 5\n Semina
 rraum\, 3. Stock\n Am Zwinger 5\n Karlsruhe-Durlach\n KVV Tram 1 Haltestel
 le Friedrichschule\n \n Veranstalter:\n junge alte\n Karlsruhe\n https://w
 ww.jungealte.info
DTSTART;TZID=Europe/Berlin:20260511T150000
DTEND;TZID=Europe/Berlin:20260511T170000
LOCATION:Gemeindehaus Am Zwinger 5\n - Seminarraum\, 3. Stock\n - Am Zwinge
 r 5\n - Karlsruhe-Durlach\n - KVV Tram 1 Haltestelle Friedrichschule
SUMMARY:Literaturcafé - Johann Wolfgang von Goethe - Die Leiden des jungen 
 Werther
X-ALT-DESC;FMTTYPE=text/html:'Die Leiden des jungen Werther' von Johann Wol
 fgang von Goethe\n \n Leitung: Gudrun Reiß\n \n Sekretariat Evangelische E
 rwachsenenbildung: Telefon 0721/167-1201<br /><br />Veranstaltungsort: <br
  />Gemeindehaus Am Zwinger 5<br />Seminarraum\, 3. Stock<br />Am Zwinger 5
 <br />Karlsruhe-Durlach<br />KVV Tram 1 Haltestelle Friedrichschule<br /><
 br />Veranstalter: <br />junge alte<br />Karlsruhe<br />https://www.jungea
 lte.info
END:VEVENT
END:VCALENDAR
