BEGIN:VCALENDAR
VERSION:2.0
PRODID:-//www.eeb-karlsruhe.de//NONSGML kigkonsult.se iCalcreator 2.41.92//
CALSCALE:GREGORIAN
METHOD:PUBLISH
UID:33313939-3861-4036-b038-346237306330
X-WR-TIMEZONE:Europe/Berlin
X-LIC-LOCATION:Europe/Berlin
BEGIN:VTIMEZONE
TZID:Europe/Berlin
BEGIN:DAYLIGHT
TZOFFSETFROM:+0100
TZOFFSETTO:+0200
TZNAME:CEST
DTSTART:19700329T020000
RRULE:FREQ=YEARLY;BYDAY=-1SU;BYMONTH=3
END:DAYLIGHT
BEGIN:STANDARD
TZOFFSETFROM:+0200
TZOFFSETTO:+0100
TZNAME:CET
DTSTART:19701025T030000
RRULE:FREQ=YEARLY;BYDAY=-1SU;BYMONTH=10
END:STANDARD
END:VTIMEZONE
BEGIN:VEVENT
UID:37636133-6566-4463-b463-353163646336
DTSTAMP:20260421T223624Z
DESCRIPTION:Weitere Termine:\n Do. 21.05.2026\, 16:30 bis 17:30 Uhr\n Do. 0
 9.07.2026\, 16:30 bis 17:30 Uhr\n \n Singen macht Spaß - in jedem Alter!\n
  \n Veranstaltungsort:\n Gemeindehaus Am Zwinger 5\n Saal\n Am Zwinger 5\n
  Karlsruhe-Durlach\n KVV Tram 1 Haltestelle Friedrichschule\n \n Veranstal
 ter:\n junge alte\n Karlsruhe\n https://www.jungealte.info
DTSTART;TZID=Europe/Berlin:20260618T163000
DTEND;TZID=Europe/Berlin:20260618T173000
LOCATION:Gemeindehaus Am Zwinger 5\n - Saal\n - Am Zwinger 5\n - Karlsruhe-
 Durlach\n - KVV Tram 1 Haltestelle Friedrichschule
SUMMARY:Singen mit Gisbert - alte Schlager und mehr...
X-ALT-DESC;FMTTYPE=text/html:Weitere Termine:<br />Do. 21.05.2026\, 16:30 b
 is 17:30 Uhr<br />Do. 09.07.2026\, 16:30 bis 17:30 Uhr<br /><br />Singen m
 acht Spaß - in jedem Alter!<br /><br />Veranstaltungsort: <br />Gemeindeha
 us Am Zwinger 5<br />Saal<br />Am Zwinger 5<br />Karlsruhe-Durlach<br />KV
 V Tram 1 Haltestelle Friedrichschule<br /><br />Veranstalter: <br />junge 
 alte<br />Karlsruhe<br />https://www.jungealte.info
END:VEVENT
END:VCALENDAR
