BEGIN:VCALENDAR
VERSION:2.0
PRODID:-//www.eeb-karlsruhe.de//NONSGML kigkonsult.se iCalcreator 2.41.92//
CALSCALE:GREGORIAN
METHOD:PUBLISH
UID:34376162-3865-4030-b136-656134386634
X-WR-TIMEZONE:Europe/Berlin
X-LIC-LOCATION:Europe/Berlin
BEGIN:VTIMEZONE
TZID:Europe/Berlin
BEGIN:DAYLIGHT
TZOFFSETFROM:+0100
TZOFFSETTO:+0200
TZNAME:CEST
DTSTART:19700329T020000
RRULE:FREQ=YEARLY;BYDAY=-1SU;BYMONTH=3
END:DAYLIGHT
BEGIN:STANDARD
TZOFFSETFROM:+0200
TZOFFSETTO:+0100
TZNAME:CET
DTSTART:19701025T030000
RRULE:FREQ=YEARLY;BYDAY=-1SU;BYMONTH=10
END:STANDARD
END:VTIMEZONE
BEGIN:VEVENT
UID:33376561-3162-4165-a339-373461363763
DTSTAMP:20260421T234739Z
DESCRIPTION:Die Wiener Klassik in Wort und Musik\n \n Online zugang In eine
 m beschwingten Vortrag stellen uns zwei herausragende Musikerinnen\, Jaleh
  Perego an der Violine und Sarah Pavlovic am Klavier\, die Musik- und Kuns
 twelt der Wiener Klassik vor - mit Werken\, Geschichten\, Anekdoten … und 
 viel\, viel Musik. Lassen Sie sich entführen und verführen zu einem Bummel
  durch die klingende Welt Wiens\, die ihren Zauber bis heute zu entfalten 
 weiß. Referentinnen: Jaleh Perego (Violine)\, Sarah Pavlovic (Klavier)\n 
 \n Veranstaltungsort:\n Hybrid: Online und Gemeindehaus Durlach\n Saal\n A
 m Zwinger 5\n 76227 Karlsruhe-Durlach\n KVV Tram 1 Haltestelle Friedrichsc
 hule Online-Zugangs-Daten in der Beschreibung Hinweise zur Videokonferenz 
 (Kurzanleitung und Datenschutz): Hinweise zur Video-Konferenz.pdf [123.6 k
 B] Quelle: Evangelische Erwachsenenbildung Karlsruhe in Kooperation mit St
 adtteilkoordination der\n \n Veranstalter:\n junge alte\n Karlsruhe\n http
 s://www.jungealte.info
DTSTART;TZID=Europe/Berlin:20260715T100000
DTEND;TZID=Europe/Berlin:20260715T113000
LOCATION:Hybrid: Online und Gemeindehaus Durlach\n - Saal\n - Am Zwinger 5
 \n - 76227 Karlsruhe-Durlach\n - KVV Tram 1 Haltestelle Friedrichschule On
 line-Zugangs-Daten in der Beschreibung Hinweise zur Videokonferenz (Kurzan
 leitung und Datenschutz): Hinweise zur Video-Konferenz.pdf [123.6 kB] Quel
 le: Evangelische Erwachsenenbildung Karlsruhe in Kooperation mit Stadtteil
 koordination der
SUMMARY:„Die Straßen Wiens sind mit Kultur gepflastert. Die Straßen anderer
  Städte mit Asphalt.“ (Karl Kraus)
X-ALT-DESC;FMTTYPE=text/html:Die Wiener Klassik in Wort und Musik<br /><br 
 />Online zugang\n \n \n \n \n In einem beschwingten Vortrag stellen uns zw
 ei herausragende Musikerinnen\, Jaleh Perego an der Violine und Sarah Pavl
 ovic am Klavier\, die Musik- und Kunstwelt der Wiener Klassik vor - mit We
 rken\, Geschichten\, Anekdoten … und viel\, viel Musik.\n Lassen Sie sich 
 entführen und verführen zu einem Bummel durch die klingende Welt Wiens\, d
 ie ihren Zauber bis heute zu entfalten weiß.\n \n Referentinnen: Jaleh Per
 ego (Violine)\, Sarah Pavlovic (Klavier)<br /><br />Veranstaltungsort: <br
  />Hybrid: Online und Gemeindehaus Durlach<br />Saal<br />Am Zwinger 5<br 
 />76227 Karlsruhe-Durlach<br />KVV Tram 1 Haltestelle Friedrichschule\n \n
  Online-Zugangs-Daten in der Beschreibung\n Hinweise zur Videokonferenz (K
 urzanleitung und Datenschutz):\n Hinweise zur Video-Konferenz.pdf [123.6 k
 B]\n Quelle: Evangelische Erwachsenenbildung Karlsruhe in Kooperation mit 
 Stadtteilkoordination der<br /><br />Veranstalter: <br />junge alte<br />K
 arlsruhe<br />https://www.jungealte.info
END:VEVENT
END:VCALENDAR
