BEGIN:VCALENDAR
VERSION:2.0
PRODID:-//www.eeb-karlsruhe.de//NONSGML kigkonsult.se iCalcreator 2.41.92//
CALSCALE:GREGORIAN
METHOD:PUBLISH
UID:35316265-3964-4466-b064-356165616463
X-WR-TIMEZONE:Europe/Berlin
X-LIC-LOCATION:Europe/Berlin
BEGIN:VTIMEZONE
TZID:Europe/Berlin
BEGIN:DAYLIGHT
TZOFFSETFROM:+0100
TZOFFSETTO:+0200
TZNAME:CEST
DTSTART:19700329T020000
RRULE:FREQ=YEARLY;BYDAY=-1SU;BYMONTH=3
END:DAYLIGHT
BEGIN:STANDARD
TZOFFSETFROM:+0200
TZOFFSETTO:+0100
TZNAME:CET
DTSTART:19701025T030000
RRULE:FREQ=YEARLY;BYDAY=-1SU;BYMONTH=10
END:STANDARD
END:VTIMEZONE
BEGIN:VEVENT
UID:64643330-6364-4731-a335-613466653037
DTSTAMP:20260421T224015Z
DESCRIPTION:Impressionen – Claude Monets malerisches Werk und sein Garten i
 n Giverny\n \n Online zugang „Ich bin ganz verzaubert\, Giverny ist für mi
 ch ein herrliches Land.“ Der Vortrag stellt Ihnen - begleitet von fotograf
 ischen Impressionen aus Monets Garten - diese Werke des französischen Impr
 essionisten vor. Referentin: Anette Ochsenwadel\, Kunsthistorikerin und Li
 teraturwissenschaftlerin\n \n Veranstaltungsort:\n Hybrid: Online und Geme
 indehaus Durlach\n Saal\n Am Zwinger 5\n 76227 Karlsruhe-Durlach\n KVV Tra
 m 1 Haltestelle Friedrichschule Online-Zugangs-Daten in der Beschreibung H
 inweise zur Videokonferenz (Kurzanleitung und Datenschutz): Hinweise zur V
 ideo-Konferenz.pdf [123.6 kB] Quelle: Evangelische Erwachsenenbildung Karl
 sruhe in Kooperation mit Stadtteilkoordination der\n \n Veranstalter:\n ju
 nge alte\n Karlsruhe\n https://www.jungealte.info
DTSTART;TZID=Europe/Berlin:20260702T100000
DTEND;TZID=Europe/Berlin:20260702T113000
LOCATION:Hybrid: Online und Gemeindehaus Durlach\n - Saal\n - Am Zwinger 5
 \n - 76227 Karlsruhe-Durlach\n - KVV Tram 1 Haltestelle Friedrichschule On
 line-Zugangs-Daten in der Beschreibung Hinweise zur Videokonferenz (Kurzan
 leitung und Datenschutz): Hinweise zur Video-Konferenz.pdf [123.6 kB] Quel
 le: Evangelische Erwachsenenbildung Karlsruhe in Kooperation mit Stadtteil
 koordination der
SUMMARY:Und immer wieder Seerosen
X-ALT-DESC;FMTTYPE=text/html:Impressionen – Claude Monets malerisches Werk 
 und sein Garten in Giverny<br /><br />Online zugang\n \n \n \n \n „Ich bin
  ganz verzaubert\, Giverny ist für mich ein herrliches Land.“\n Der Vortra
 g stellt Ihnen - begleitet von fotografischen Impressionen aus Monets Gart
 en - diese Werke des französischen Impressionisten vor.\n \n Referentin: A
 nette Ochsenwadel\, Kunsthistorikerin und Literaturwissenschaftlerin<br />
 <br />Veranstaltungsort: <br />Hybrid: Online und Gemeindehaus Durlach<br 
 />Saal<br />Am Zwinger 5<br />76227 Karlsruhe-Durlach<br />KVV Tram 1 Halt
 estelle Friedrichschule\n \n Online-Zugangs-Daten in der Beschreibung\n Hi
 nweise zur Videokonferenz (Kurzanleitung und Datenschutz):\n Hinweise zur 
 Video-Konferenz.pdf [123.6 kB]\n Quelle: Evangelische Erwachsenenbildung K
 arlsruhe in Kooperation mit Stadtteilkoordination der<br /><br />Veranstal
 ter: <br />junge alte<br />Karlsruhe<br />https://www.jungealte.info
END:VEVENT
END:VCALENDAR
