BEGIN:VCALENDAR
VERSION:2.0
PRODID:-//www.eeb-karlsruhe.de//NONSGML kigkonsult.se iCalcreator 2.41.92//
CALSCALE:GREGORIAN
METHOD:PUBLISH
UID:33623737-6666-4830-b661-326331636532
X-WR-TIMEZONE:Europe/Berlin
X-LIC-LOCATION:Europe/Berlin
BEGIN:VTIMEZONE
TZID:Europe/Berlin
BEGIN:DAYLIGHT
TZOFFSETFROM:+0100
TZOFFSETTO:+0200
TZNAME:CEST
DTSTART:19700329T020000
RRULE:FREQ=YEARLY;BYDAY=-1SU;BYMONTH=3
END:DAYLIGHT
BEGIN:STANDARD
TZOFFSETFROM:+0200
TZOFFSETTO:+0100
TZNAME:CET
DTSTART:19701025T030000
RRULE:FREQ=YEARLY;BYDAY=-1SU;BYMONTH=10
END:STANDARD
END:VTIMEZONE
BEGIN:VEVENT
UID:36653431-3533-4363-a631-303238386130
DTSTAMP:20260421T212609Z
DESCRIPTION:Online zugang Im Zusammenhang mit der Einführung der in den USA
  von Peter Thiel entwickelten Software des Unternehmens PALANTIR für die P
 olizeiarbeit ist die Diskussion darüber entbrannt\, ob sich Deutschland mi
 t der Übernahme solcher Systeme in einer Weise von den USA abhängig macht\
 , die die Sicherheitsinteressen unseres Landes beeinträchtigt... Referent:
  Dr. Konstantin von Notz\, MdB\n \n Veranstaltungsort:\n Hybrid: Online un
 d Gemeindehaus Durlach\n Saal\n Am Zwinger 5\n 76227 Karlsruhe-Durlach\n K
 VV Tram 1 Haltestelle Friedrichschule Online-Zugangs-Daten in der Beschrei
 bung Hinweise zur Videokonferenz (Kurzanleitung und Datenschutz): Hinweise
  zur Video-Konferenz.pdf [123.6 kB] Quelle: Evangelische Erwachsenenbildun
 g Karlsruhe in Kooperation mit Stadtteilkoordination der\n \n Veranstalter
 :\n junge alte\n Karlsruhe\n https://www.jungealte.info
DTSTART;TZID=Europe/Berlin:20260701T100000
DTEND;TZID=Europe/Berlin:20260701T113000
LOCATION:Hybrid: Online und Gemeindehaus Durlach\n - Saal\n - Am Zwinger 5
 \n - 76227 Karlsruhe-Durlach\n - KVV Tram 1 Haltestelle Friedrichschule On
 line-Zugangs-Daten in der Beschreibung Hinweise zur Videokonferenz (Kurzan
 leitung und Datenschutz): Hinweise zur Video-Konferenz.pdf [123.6 kB] Quel
 le: Evangelische Erwachsenenbildung Karlsruhe in Kooperation mit Stadtteil
 koordination der
SUMMARY:Der Einfluss der US Tech-Milliardäre auf die Sicherheit der EU
X-ALT-DESC;FMTTYPE=text/html:Online zugang\n \n \n \n \n Im Zusammenhang mi
 t der Einführung der in den USA von Peter Thiel entwickelten Software des 
 Unternehmens PALANTIR für die Polizeiarbeit ist die Diskussion darüber ent
 brannt\, ob sich Deutschland mit der Übernahme solcher Systeme in einer We
 ise von den USA abhängig macht\, die die Sicherheitsinteressen unseres Lan
 des beeinträchtigt...\n \n Referent: Dr. Konstantin von Notz\, MdB<br /><b
 r />Veranstaltungsort: <br />Hybrid: Online und Gemeindehaus Durlach<br />
 Saal<br />Am Zwinger 5<br />76227 Karlsruhe-Durlach<br />KVV Tram 1 Haltes
 telle Friedrichschule\n \n Online-Zugangs-Daten in der Beschreibung\n Hinw
 eise zur Videokonferenz (Kurzanleitung und Datenschutz):\n Hinweise zur Vi
 deo-Konferenz.pdf [123.6 kB]\n Quelle: Evangelische Erwachsenenbildung Kar
 lsruhe in Kooperation mit Stadtteilkoordination der<br /><br />Veranstalte
 r: <br />junge alte<br />Karlsruhe<br />https://www.jungealte.info
END:VEVENT
END:VCALENDAR
