BEGIN:VCALENDAR
VERSION:2.0
PRODID:-//www.eeb-karlsruhe.de//NONSGML kigkonsult.se iCalcreator 2.41.92//
CALSCALE:GREGORIAN
METHOD:PUBLISH
UID:61346265-6236-4136-b935-373730336361
X-WR-TIMEZONE:Europe/Berlin
X-LIC-LOCATION:Europe/Berlin
BEGIN:VTIMEZONE
TZID:Europe/Berlin
BEGIN:DAYLIGHT
TZOFFSETFROM:+0100
TZOFFSETTO:+0200
TZNAME:CEST
DTSTART:19700329T020000
RRULE:FREQ=YEARLY;BYDAY=-1SU;BYMONTH=3
END:DAYLIGHT
BEGIN:STANDARD
TZOFFSETFROM:+0200
TZOFFSETTO:+0100
TZNAME:CET
DTSTART:19701025T030000
RRULE:FREQ=YEARLY;BYDAY=-1SU;BYMONTH=10
END:STANDARD
END:VTIMEZONE
BEGIN:VEVENT
UID:62653962-3464-4636-a665-343766623830
DTSTAMP:20260421T223420Z
DESCRIPTION:Von Botanik bis Gehirn: Chancen\, Risiken und gesellschaftliche
  Perspektiven\n \n Online zugang Cannabis ist mehr als ein Rauschmittel: D
 er Vortrag gibt einen spannenden Einblick in die Wirkung auf Gehirn und Kö
 rper\, erklärt das Endocannabinoid-System\, beleuchtet medizinische Einsat
 zmöglichkeiten und potentielle Risiken – besonders in der Hirnentwicklung 
 von jugendlichen Konsumenten – und wirft einen Blick auf die aktuelle Disk
 ussion rund um die Legalisierung. Ein informativer Morgen zwischen Neurobi
 ologie\, Medizin und Gesellschaft mit anschließendem Austausch. Referentin
 : Dr. med. Andrea Menges-Fleig\, Ärztliche Direktorin/Ltd. Chefärztin in d
 er ACURA Klinik für Psychosomatik und Psychotherapie Baden-Baden\n \n Vera
 nstaltungsort:\n Hybrid: Online und Gemeindehaus Durlach\n Saal\n Am Zwing
 er 5\n 76227 Karlsruhe-Durlach\n KVV Tram 1 Haltestelle Friedrichschule On
 line-Zugangs-Daten in der Beschreibung Hinweise zur Videokonferenz (Kurzan
 leitung und Datenschutz): Hinweise zur Video-Konferenz.pdf [123.6 kB] Quel
 le: Evangelische Erwachsenenbildung Karlsruhe in Kooperation mit Stadtteil
 koordination der\n \n Veranstalter:\n junge alte\n Karlsruhe\n https://www
 .jungealte.info
DTSTART;TZID=Europe/Berlin:20260625T100000
DTEND;TZID=Europe/Berlin:20260625T113000
LOCATION:Hybrid: Online und Gemeindehaus Durlach\n - Saal\n - Am Zwinger 5
 \n - 76227 Karlsruhe-Durlach\n - KVV Tram 1 Haltestelle Friedrichschule On
 line-Zugangs-Daten in der Beschreibung Hinweise zur Videokonferenz (Kurzan
 leitung und Datenschutz): Hinweise zur Video-Konferenz.pdf [123.6 kB] Quel
 le: Evangelische Erwachsenenbildung Karlsruhe in Kooperation mit Stadtteil
 koordination der
SUMMARY:Cannabis - mehr als nur ein Joint?
X-ALT-DESC;FMTTYPE=text/html:Von Botanik bis Gehirn: Chancen\, Risiken und 
 gesellschaftliche Perspektiven<br /><br />Online zugang\n \n \n \n \n Cann
 abis ist mehr als ein Rauschmittel: Der Vortrag gibt einen spannenden Einb
 lick in die Wirkung auf Gehirn und Körper\, erklärt das Endocannabinoid-Sy
 stem\, beleuchtet medizinische Einsatzmöglichkeiten und potentielle Risike
 n – besonders in der Hirnentwicklung von jugendlichen Konsumenten – und wi
 rft einen Blick auf die aktuelle Diskussion rund um die Legalisierung. Ein
  informativer Morgen zwischen Neurobiologie\, Medizin und Gesellschaft mit
  anschließendem Austausch.\n \n Referentin: Dr. med. Andrea Menges-Fleig\,
  Ärztliche Direktorin/Ltd. Chefärztin in der ACURA Klinik für Psychosomati
 k und Psychotherapie Baden-Baden<br /><br />Veranstaltungsort: <br />Hybri
 d: Online und Gemeindehaus Durlach<br />Saal<br />Am Zwinger 5<br />76227 
 Karlsruhe-Durlach<br />KVV Tram 1 Haltestelle Friedrichschule\n \n Online-
 Zugangs-Daten in der Beschreibung\n Hinweise zur Videokonferenz (Kurzanlei
 tung und Datenschutz):\n Hinweise zur Video-Konferenz.pdf [123.6 kB]\n Que
 lle: Evangelische Erwachsenenbildung Karlsruhe in Kooperation mit Stadttei
 lkoordination der<br /><br />Veranstalter: <br />junge alte<br />Karlsruhe
 <br />https://www.jungealte.info
END:VEVENT
END:VCALENDAR
