BEGIN:VCALENDAR
VERSION:2.0
PRODID:-//www.eeb-karlsruhe.de//NONSGML kigkonsult.se iCalcreator 2.41.92//
CALSCALE:GREGORIAN
METHOD:PUBLISH
UID:34643462-3832-4838-b961-633764396637
X-WR-TIMEZONE:Europe/Berlin
X-LIC-LOCATION:Europe/Berlin
BEGIN:VTIMEZONE
TZID:Europe/Berlin
BEGIN:DAYLIGHT
TZOFFSETFROM:+0100
TZOFFSETTO:+0200
TZNAME:CEST
DTSTART:19700329T020000
RRULE:FREQ=YEARLY;BYDAY=-1SU;BYMONTH=3
END:DAYLIGHT
BEGIN:STANDARD
TZOFFSETFROM:+0200
TZOFFSETTO:+0100
TZNAME:CET
DTSTART:19701025T030000
RRULE:FREQ=YEARLY;BYDAY=-1SU;BYMONTH=10
END:STANDARD
END:VTIMEZONE
BEGIN:VEVENT
UID:65333162-3064-4565-b539-636264666635
DTSTAMP:20260421T234407Z
DESCRIPTION:Online zugang „Revolution für Anfänger*innen“\, so hieß eine vi
 elbeachtete Ausstellung des Badischen Landesmuseums in Karlsruhe. Die Refe
 rentin stellt uns in einem lebendigen Vortrag anhand vieler Bildmaterialie
 n das Phänomen dieser politischen Umwälzungen vor. Referentin: Eva Unterbu
 rg M.A.\, Kunsthistorikerin und Kulturvermittlerin am Badischen Landesmuse
 um\n \n Veranstaltungsort:\n Hybrid: Online und Gemeindehaus Durlach\n Saa
 l\n Am Zwinger 5\n 76227 Karlsruhe-Durlach\n KVV Tram 1 Haltestelle Friedr
 ichschule Online-Zugangs-Daten in der Beschreibung Hinweise zur Videokonfe
 renz (Kurzanleitung und Datenschutz): Hinweise zur Video-Konferenz.pdf [12
 3.6 kB] Quelle: Evangelische Erwachsenenbildung Karlsruhe in Kooperation m
 it Stadtteilkoordination der\n \n Veranstalter:\n junge alte\n Karlsruhe\n
  https://www.jungealte.info
DTSTART;TZID=Europe/Berlin:20260624T100000
DTEND;TZID=Europe/Berlin:20260624T113000
LOCATION:Hybrid: Online und Gemeindehaus Durlach\n - Saal\n - Am Zwinger 5
 \n - 76227 Karlsruhe-Durlach\n - KVV Tram 1 Haltestelle Friedrichschule On
 line-Zugangs-Daten in der Beschreibung Hinweise zur Videokonferenz (Kurzan
 leitung und Datenschutz): Hinweise zur Video-Konferenz.pdf [123.6 kB] Quel
 le: Evangelische Erwachsenenbildung Karlsruhe in Kooperation mit Stadtteil
 koordination der
SUMMARY:„Revolution für Anfänger*innen“
X-ALT-DESC;FMTTYPE=text/html:Online zugang\n \n \n \n \n „Revolution für An
 fänger*innen“\, so hieß eine vielbeachtete Ausstellung des Badischen Lande
 smuseums in Karlsruhe. Die Referentin stellt uns in einem lebendigen Vortr
 ag anhand vieler Bildmaterialien das Phänomen dieser politischen Umwälzung
 en vor.\n \n Referentin: Eva Unterburg M.A.\, Kunsthistorikerin und Kultur
 vermittlerin am Badischen Landesmuseum<br /><br />Veranstaltungsort: <br /
 >Hybrid: Online und Gemeindehaus Durlach<br />Saal<br />Am Zwinger 5<br />
 76227 Karlsruhe-Durlach<br />KVV Tram 1 Haltestelle Friedrichschule\n \n O
 nline-Zugangs-Daten in der Beschreibung\n Hinweise zur Videokonferenz (Kur
 zanleitung und Datenschutz):\n Hinweise zur Video-Konferenz.pdf [123.6 kB]
 \n Quelle: Evangelische Erwachsenenbildung Karlsruhe in Kooperation mit St
 adtteilkoordination der<br /><br />Veranstalter: <br />junge alte<br />Kar
 lsruhe<br />https://www.jungealte.info
END:VEVENT
END:VCALENDAR
