BEGIN:VCALENDAR
VERSION:2.0
PRODID:-//www.eeb-karlsruhe.de//NONSGML kigkonsult.se iCalcreator 2.41.92//
CALSCALE:GREGORIAN
METHOD:PUBLISH
UID:65653765-3365-4363-b561-636161316431
X-WR-TIMEZONE:Europe/Berlin
X-LIC-LOCATION:Europe/Berlin
BEGIN:VTIMEZONE
TZID:Europe/Berlin
BEGIN:DAYLIGHT
TZOFFSETFROM:+0100
TZOFFSETTO:+0200
TZNAME:CEST
DTSTART:19700329T020000
RRULE:FREQ=YEARLY;BYDAY=-1SU;BYMONTH=3
END:DAYLIGHT
BEGIN:STANDARD
TZOFFSETFROM:+0200
TZOFFSETTO:+0100
TZNAME:CET
DTSTART:19701025T030000
RRULE:FREQ=YEARLY;BYDAY=-1SU;BYMONTH=10
END:STANDARD
END:VTIMEZONE
BEGIN:VEVENT
UID:38646566-6265-4339-b562-303438656465
DTSTAMP:20260421T212506Z
DESCRIPTION:Online zugang Die Lieder Paul Gerhardts sind Klassiker. Über Ja
 hrhunderte hinweg erbauen sie die Herzen von Menschen. Viele wissen aber n
 icht\, dass sich der Dichter dieser Lieder seine lutherischen Überzeugunge
 n einiges kosten ließ. Referent: Prof. Dr. Alexander Bitzel\, Gemeindepfar
 rer in Frankfurt a.M.\, Professor für Kirchengeschichte\n \n Veranstaltung
 sort:\n Hybrid: Online und Gemeindehaus Durlach\n Saal\n Am Zwinger 5\n 76
 227 Karlsruhe-Durlach\n KVV Tram 1 Haltestelle Friedrichschule Online-Zuga
 ngs-Daten in der Beschreibung Hinweise zur Videokonferenz (Kurzanleitung u
 nd Datenschutz): Hinweise zur Video-Konferenz.pdf [123.6 kB] Quelle: Evang
 elische Erwachsenenbildung Karlsruhe in Kooperation mit Stadtteilkoordinat
 ion der\n \n Veranstalter:\n junge alte\n Karlsruhe\n https://www.jungealt
 e.info
DTSTART;TZID=Europe/Berlin:20260617T100000
DTEND;TZID=Europe/Berlin:20260617T113000
LOCATION:Hybrid: Online und Gemeindehaus Durlach\n - Saal\n - Am Zwinger 5
 \n - 76227 Karlsruhe-Durlach\n - KVV Tram 1 Haltestelle Friedrichschule On
 line-Zugangs-Daten in der Beschreibung Hinweise zur Videokonferenz (Kurzan
 leitung und Datenschutz): Hinweise zur Video-Konferenz.pdf [123.6 kB] Quel
 le: Evangelische Erwachsenenbildung Karlsruhe in Kooperation mit Stadtteil
 koordination der
SUMMARY:Paul Gerhardt\, der streitbare Dichter
X-ALT-DESC;FMTTYPE=text/html:Online zugang\n \n \n \n \n Die Lieder Paul Ge
 rhardts sind Klassiker.\n Über Jahrhunderte hinweg erbauen sie die Herzen 
 von Menschen. Viele wissen aber nicht\, dass sich der Dichter dieser Liede
 r seine lutherischen Überzeugungen einiges kosten ließ.\n \n Referent: Pro
 f. Dr. Alexander Bitzel\, Gemeindepfarrer in Frankfurt a.M.\, Professor fü
 r Kirchengeschichte<br /><br />Veranstaltungsort: <br />Hybrid: Online und
  Gemeindehaus Durlach<br />Saal<br />Am Zwinger 5<br />76227 Karlsruhe-Dur
 lach<br />KVV Tram 1 Haltestelle Friedrichschule\n \n Online-Zugangs-Daten
  in der Beschreibung\n Hinweise zur Videokonferenz (Kurzanleitung und Date
 nschutz):\n Hinweise zur Video-Konferenz.pdf [123.6 kB]\n Quelle: Evangeli
 sche Erwachsenenbildung Karlsruhe in Kooperation mit Stadtteilkoordination
  der<br /><br />Veranstalter: <br />junge alte<br />Karlsruhe<br />https:/
 /www.jungealte.info
END:VEVENT
END:VCALENDAR
