BEGIN:VCALENDAR
VERSION:2.0
PRODID:-//www.eeb-karlsruhe.de//NONSGML kigkonsult.se iCalcreator 2.41.92//
CALSCALE:GREGORIAN
METHOD:PUBLISH
UID:39326363-3738-4466-a365-373935653537
X-WR-TIMEZONE:Europe/Berlin
X-LIC-LOCATION:Europe/Berlin
BEGIN:VTIMEZONE
TZID:Europe/Berlin
BEGIN:DAYLIGHT
TZOFFSETFROM:+0100
TZOFFSETTO:+0200
TZNAME:CEST
DTSTART:19700329T020000
RRULE:FREQ=YEARLY;BYDAY=-1SU;BYMONTH=3
END:DAYLIGHT
BEGIN:STANDARD
TZOFFSETFROM:+0200
TZOFFSETTO:+0100
TZNAME:CET
DTSTART:19701025T030000
RRULE:FREQ=YEARLY;BYDAY=-1SU;BYMONTH=10
END:STANDARD
END:VTIMEZONE
BEGIN:VEVENT
UID:62303635-3834-4162-b230-356233356239
DTSTAMP:20260421T234319Z
DESCRIPTION:Online zugang Die Badische Landeskirche im gesellschaftlichen D
 iskurs. Klimaschutz und Klimagerechtigkeit in Zeiten von Polykrisen und ab
 nehmender Wahrnehmung in der Gesellschaft - welche Ziele und Haltung hat u
 nsere Landeskirche dazu? Referent: Dr. André Witthöft-Mühlmann\, landeskir
 chlicher Umweltbeauftragter\, Leitung Büro für Umwelt und Energie\, Biolog
 e\, Abteilung Bau\, Kunst und Umwelt\n \n Veranstaltungsort:\n Hybrid: Onl
 ine und Gemeindehaus Durlach\n Saal\n Am Zwinger 5\n 76227 Karlsruhe-Durla
 ch\n KVV Tram 1 Haltestelle Friedrichschule Online-Zugangs-Daten in der Be
 schreibung Hinweise zur Videokonferenz (Kurzanleitung und Datenschutz): Hi
 nweise zur Video-Konferenz.pdf [123.6 kB] Quelle: Evangelische Erwachsenen
 bildung Karlsruhe in Kooperation mit Stadtteilkoordination der\n \n Verans
 talter:\n junge alte\n Karlsruhe\n https://www.jungealte.info
DTSTART;TZID=Europe/Berlin:20260611T100000
DTEND;TZID=Europe/Berlin:20260611T113000
LOCATION:Hybrid: Online und Gemeindehaus Durlach\n - Saal\n - Am Zwinger 5
 \n - 76227 Karlsruhe-Durlach\n - KVV Tram 1 Haltestelle Friedrichschule On
 line-Zugangs-Daten in der Beschreibung Hinweise zur Videokonferenz (Kurzan
 leitung und Datenschutz): Hinweise zur Video-Konferenz.pdf [123.6 kB] Quel
 le: Evangelische Erwachsenenbildung Karlsruhe in Kooperation mit Stadtteil
 koordination der
SUMMARY:Eine Kirche fürs Klima in Baden?
X-ALT-DESC;FMTTYPE=text/html:Online zugang\n \n \n \n \n Die Badische Lande
 skirche im gesellschaftlichen Diskurs.\n Klimaschutz und Klimagerechtigkei
 t in Zeiten von Polykrisen und abnehmender Wahrnehmung in der Gesellschaft
  - welche Ziele und Haltung hat unsere Landeskirche dazu?\n \n Referent: D
 r. André Witthöft-Mühlmann\, landeskirchlicher Umweltbeauftragter\, Leitun
 g Büro für Umwelt und Energie\, Biologe\, Abteilung Bau\, Kunst und Umwelt
 <br /><br />Veranstaltungsort: <br />Hybrid: Online und Gemeindehaus Durla
 ch<br />Saal<br />Am Zwinger 5<br />76227 Karlsruhe-Durlach<br />KVV Tram 
 1 Haltestelle Friedrichschule\n \n Online-Zugangs-Daten in der Beschreibun
 g\n Hinweise zur Videokonferenz (Kurzanleitung und Datenschutz):\n Hinweis
 e zur Video-Konferenz.pdf [123.6 kB]\n Quelle: Evangelische Erwachsenenbil
 dung Karlsruhe in Kooperation mit Stadtteilkoordination der<br /><br />Ver
 anstalter: <br />junge alte<br />Karlsruhe<br />https://www.jungealte.info
END:VEVENT
END:VCALENDAR
