BEGIN:VCALENDAR
VERSION:2.0
PRODID:-//www.eeb-karlsruhe.de//NONSGML kigkonsult.se iCalcreator 2.41.92//
CALSCALE:GREGORIAN
METHOD:PUBLISH
UID:33383864-3437-4739-b836-356434343564
X-WR-TIMEZONE:Europe/Berlin
X-LIC-LOCATION:Europe/Berlin
BEGIN:VTIMEZONE
TZID:Europe/Berlin
BEGIN:DAYLIGHT
TZOFFSETFROM:+0100
TZOFFSETTO:+0200
TZNAME:CEST
DTSTART:19700329T020000
RRULE:FREQ=YEARLY;BYDAY=-1SU;BYMONTH=3
END:DAYLIGHT
BEGIN:STANDARD
TZOFFSETFROM:+0200
TZOFFSETTO:+0100
TZNAME:CET
DTSTART:19701025T030000
RRULE:FREQ=YEARLY;BYDAY=-1SU;BYMONTH=10
END:STANDARD
END:VTIMEZONE
BEGIN:VEVENT
UID:65376633-3535-4439-b238-383436626362
DTSTAMP:20260421T212715Z
DESCRIPTION:Online zugang Seit der siegreichen Revolution von 1959 hat sich
  Kuba zu einem der einflussreichsten Länder der Dritten Welt entwickelt. F
 idel Castro galt als die Ikone lateinamerikanischer Identität. Referent: P
 rof. Dr. Bernd Braun\, Historiker und Politikwissenschaftler\, Leiter der 
 Stiftung Reichspräsident-Friedrich-Ebert-Gedenkstätte in Heidelberg\, Lehr
 beauftragter am Historischen Seminar der Universität Heidelberg\n \n Veran
 staltungsort:\n Hybrid: Online und Gemeindehaus Durlach\n Saal\n Am Zwinge
 r 5\n 76227 Karlsruhe-Durlach\n KVV Tram 1 Haltestelle Friedrichschule Onl
 ine-Zugangs-Daten in der Beschreibung Hinweise zur Videokonferenz (Kurzanl
 eitung und Datenschutz): Hinweise zur Video-Konferenz.pdf [123.6 kB] Quell
 e: Evangelische Erwachsenenbildung Karlsruhe in Kooperation mit Stadtteilk
 oordination der\n \n Veranstalter:\n junge alte\n Karlsruhe\n https://www.
 jungealte.info
DTSTART;TZID=Europe/Berlin:20260610T100000
DTEND;TZID=Europe/Berlin:20260610T113000
LOCATION:Hybrid: Online und Gemeindehaus Durlach\n - Saal\n - Am Zwinger 5
 \n - 76227 Karlsruhe-Durlach\n - KVV Tram 1 Haltestelle Friedrichschule On
 line-Zugangs-Daten in der Beschreibung Hinweise zur Videokonferenz (Kurzan
 leitung und Datenschutz): Hinweise zur Video-Konferenz.pdf [123.6 kB] Quel
 le: Evangelische Erwachsenenbildung Karlsruhe in Kooperation mit Stadtteil
 koordination der
SUMMARY:Einführung in die Geschichte Kubas
X-ALT-DESC;FMTTYPE=text/html:Online zugang\n \n \n \n \n Seit der siegreich
 en Revolution von 1959 hat sich Kuba zu einem der einflussreichsten Länder
  der Dritten Welt entwickelt. Fidel Castro galt als die Ikone lateinamerik
 anischer Identität.\n \n Referent: Prof. Dr. Bernd Braun\, Historiker und 
 Politikwissenschaftler\, Leiter der Stiftung Reichspräsident-Friedrich-Ebe
 rt-Gedenkstätte in Heidelberg\, Lehrbeauftragter am Historischen Seminar d
 er Universität Heidelberg<br /><br />Veranstaltungsort: <br />Hybrid: Onli
 ne und Gemeindehaus Durlach<br />Saal<br />Am Zwinger 5<br />76227 Karlsru
 he-Durlach<br />KVV Tram 1 Haltestelle Friedrichschule\n \n Online-Zugangs
 -Daten in der Beschreibung\n Hinweise zur Videokonferenz (Kurzanleitung un
 d Datenschutz):\n Hinweise zur Video-Konferenz.pdf [123.6 kB]\n Quelle: Ev
 angelische Erwachsenenbildung Karlsruhe in Kooperation mit Stadtteilkoordi
 nation der<br /><br />Veranstalter: <br />junge alte<br />Karlsruhe<br />h
 ttps://www.jungealte.info
END:VEVENT
END:VCALENDAR
