BEGIN:VCALENDAR
VERSION:2.0
PRODID:-//www.eeb-karlsruhe.de//NONSGML kigkonsult.se iCalcreator 2.41.92//
CALSCALE:GREGORIAN
METHOD:PUBLISH
UID:61656533-6564-4336-a637-623832346163
X-WR-TIMEZONE:Europe/Berlin
X-LIC-LOCATION:Europe/Berlin
BEGIN:VTIMEZONE
TZID:Europe/Berlin
BEGIN:DAYLIGHT
TZOFFSETFROM:+0100
TZOFFSETTO:+0200
TZNAME:CEST
DTSTART:19700329T020000
RRULE:FREQ=YEARLY;BYDAY=-1SU;BYMONTH=3
END:DAYLIGHT
BEGIN:STANDARD
TZOFFSETFROM:+0200
TZOFFSETTO:+0100
TZNAME:CET
DTSTART:19701025T030000
RRULE:FREQ=YEARLY;BYDAY=-1SU;BYMONTH=10
END:STANDARD
END:VTIMEZONE
BEGIN:VEVENT
UID:66333965-3431-4965-b739-663936343563
DTSTAMP:20260421T212809Z
DESCRIPTION:Das kurze und bewegte Leben der Ingeborg Bachmann\n \n Online z
 ugang In diesem Jahr rundet sich der Geburtstag der 1926 geborenen Lyriker
 in und Romanautorin Ingeborg Bachmann zum hundertsten Mal. Referent: Rolan
 d Reiner\, OStD i.R.\, Studium der Germanistik und Geschichte\, bis zur Pe
 nsionierung Deutschlehrer und Schulleiter am Gymnasium\n \n Veranstaltungs
 ort:\n Hybrid: Online und Gemeindehaus Durlach\n Saal\n Am Zwinger 5\n 762
 27 Karlsruhe-Durlach\n KVV Tram 1 Haltestelle Friedrichschule Online-Zugan
 gs-Daten in der Beschreibung Hinweise zur Videokonferenz (Kurzanleitung un
 d Datenschutz): Hinweise zur Video-Konferenz.pdf [123.6 kB] Quelle: Evange
 lische Erwachsenenbildung Karlsruhe in Kooperation mit Stadtteilkoordinati
 on der\n \n Veranstalter:\n junge alte\n Karlsruhe\n https://www.jungealte
 .info
DTSTART;TZID=Europe/Berlin:20260520T100000
DTEND;TZID=Europe/Berlin:20260520T113000
LOCATION:Hybrid: Online und Gemeindehaus Durlach\n - Saal\n - Am Zwinger 5
 \n - 76227 Karlsruhe-Durlach\n - KVV Tram 1 Haltestelle Friedrichschule On
 line-Zugangs-Daten in der Beschreibung Hinweise zur Videokonferenz (Kurzan
 leitung und Datenschutz): Hinweise zur Video-Konferenz.pdf [123.6 kB] Quel
 le: Evangelische Erwachsenenbildung Karlsruhe in Kooperation mit Stadtteil
 koordination der
SUMMARY:„Wie Orpheus spiel ich auf den Saiten des Lebens den Tod …“
X-ALT-DESC;FMTTYPE=text/html:Das kurze und bewegte Leben der Ingeborg Bachm
 ann<br /><br />Online zugang\n \n \n \n \n In diesem Jahr rundet sich der 
 Geburtstag der 1926 geborenen Lyrikerin und Romanautorin Ingeborg Bachmann
  zum hundertsten Mal.\n \n Referent: Roland Reiner\, OStD i.R.\, Studium d
 er Germanistik und Geschichte\, bis zur Pensionierung Deutschlehrer und Sc
 hulleiter am Gymnasium<br /><br />Veranstaltungsort: <br />Hybrid: Online 
 und Gemeindehaus Durlach<br />Saal<br />Am Zwinger 5<br />76227 Karlsruhe-
 Durlach<br />KVV Tram 1 Haltestelle Friedrichschule\n \n Online-Zugangs-Da
 ten in der Beschreibung\n Hinweise zur Videokonferenz (Kurzanleitung und D
 atenschutz):\n Hinweise zur Video-Konferenz.pdf [123.6 kB]\n Quelle: Evang
 elische Erwachsenenbildung Karlsruhe in Kooperation mit Stadtteilkoordinat
 ion der<br /><br />Veranstalter: <br />junge alte<br />Karlsruhe<br />http
 s://www.jungealte.info
END:VEVENT
END:VCALENDAR
