BEGIN:VCALENDAR
VERSION:2.0
PRODID:-//www.eeb-karlsruhe.de//NONSGML kigkonsult.se iCalcreator 2.41.92//
CALSCALE:GREGORIAN
METHOD:PUBLISH
UID:35383037-3431-4338-a464-646134653965
X-WR-TIMEZONE:Europe/Berlin
X-LIC-LOCATION:Europe/Berlin
BEGIN:VTIMEZONE
TZID:Europe/Berlin
BEGIN:DAYLIGHT
TZOFFSETFROM:+0100
TZOFFSETTO:+0200
TZNAME:CEST
DTSTART:19700329T020000
RRULE:FREQ=YEARLY;BYDAY=-1SU;BYMONTH=3
END:DAYLIGHT
BEGIN:STANDARD
TZOFFSETFROM:+0200
TZOFFSETTO:+0100
TZNAME:CET
DTSTART:19701025T030000
RRULE:FREQ=YEARLY;BYDAY=-1SU;BYMONTH=10
END:STANDARD
END:VTIMEZONE
BEGIN:VEVENT
UID:65396366-3730-4636-b133-343666616336
DTSTAMP:20260421T223954Z
DESCRIPTION:Eine musikalisch-literarische Matinée\n \n Online zugang Zum wi
 ederholten Male gestalten wir unsere Matinée\, in der Musik und Text eine 
 heiter-beschwingte Verbindung eingehen. Mitwirkende: Werner Scholz - Flöte
 \, Norbert Krupp - Cembalo\, Bernd Wagner - Cello\, Klaus Nagorni - Lesung
 en\n \n Veranstaltungsort:\n Hybrid: Online und Gemeindehaus Durlach\n Saa
 l\n Am Zwinger 5\n 76227 Karlsruhe-Durlach\n KVV Tram 1 Haltestelle Friedr
 ichschule Online-Zugangs-Daten in der Beschreibung Hinweise zur Videokonfe
 renz (Kurzanleitung und Datenschutz): Hinweise zur Video-Konferenz.pdf [12
 3.6 kB] Quelle: Evangelische Erwachsenenbildung Karlsruhe in Kooperation m
 it Stadtteilkoordination der\n \n Veranstalter:\n junge alte\n Karlsruhe\n
  https://www.jungealte.info
DTSTART;TZID=Europe/Berlin:20260513T100000
DTEND;TZID=Europe/Berlin:20260513T113000
LOCATION:Hybrid: Online und Gemeindehaus Durlach\n - Saal\n - Am Zwinger 5
 \n - 76227 Karlsruhe-Durlach\n - KVV Tram 1 Haltestelle Friedrichschule On
 line-Zugangs-Daten in der Beschreibung Hinweise zur Videokonferenz (Kurzan
 leitung und Datenschutz): Hinweise zur Video-Konferenz.pdf [123.6 kB] Quel
 le: Evangelische Erwachsenenbildung Karlsruhe in Kooperation mit Stadtteil
 koordination der
SUMMARY:Wenn Töne und Worte einander begegnen ...
X-ALT-DESC;FMTTYPE=text/html:Eine musikalisch-literarische Matinée<br /><br
  />Online zugang\n \n \n \n \n Zum wiederholten Male gestalten wir unsere 
 Matinée\, in der Musik und Text eine heiter-beschwingte Verbindung eingehe
 n.\n \n Mitwirkende: Werner Scholz - Flöte\, Norbert Krupp - Cembalo\, Ber
 nd Wagner - Cello\, Klaus Nagorni - Lesungen<br /><br />Veranstaltungsort:
  <br />Hybrid: Online und Gemeindehaus Durlach<br />Saal<br />Am Zwinger 5
 <br />76227 Karlsruhe-Durlach<br />KVV Tram 1 Haltestelle Friedrichschule
 \n \n Online-Zugangs-Daten in der Beschreibung\n Hinweise zur Videokonfere
 nz (Kurzanleitung und Datenschutz):\n Hinweise zur Video-Konferenz.pdf [12
 3.6 kB]\n Quelle: Evangelische Erwachsenenbildung Karlsruhe in Kooperation
  mit Stadtteilkoordination der<br /><br />Veranstalter: <br />junge alte<b
 r />Karlsruhe<br />https://www.jungealte.info
END:VEVENT
END:VCALENDAR
