BEGIN:VCALENDAR
VERSION:2.0
PRODID:-//www.eeb-karlsruhe.de//NONSGML kigkonsult.se iCalcreator 2.41.92//
CALSCALE:GREGORIAN
METHOD:PUBLISH
UID:34326363-3832-4335-a166-643531353830
X-WR-TIMEZONE:Europe/Berlin
X-LIC-LOCATION:Europe/Berlin
BEGIN:VTIMEZONE
TZID:Europe/Berlin
BEGIN:DAYLIGHT
TZOFFSETFROM:+0100
TZOFFSETTO:+0200
TZNAME:CEST
DTSTART:19700329T020000
RRULE:FREQ=YEARLY;BYDAY=-1SU;BYMONTH=3
END:DAYLIGHT
BEGIN:STANDARD
TZOFFSETFROM:+0200
TZOFFSETTO:+0100
TZNAME:CET
DTSTART:19701025T030000
RRULE:FREQ=YEARLY;BYDAY=-1SU;BYMONTH=10
END:STANDARD
END:VTIMEZONE
BEGIN:VEVENT
UID:38653836-6465-4338-b731-646337373361
DTSTAMP:20260421T234638Z
DESCRIPTION:Online zugang Ein Drucker\, der keine Buchstaben\, sondern Ding
 e produziert – ob Werkzeug\, medizinische Implantate oder Kunst und Schmuc
 k. Was nach Zukunft klingt\, ist längst Teil unseres Alltags: 3D-Drucker a
 rbeiten still und leise in Labors\, Werkstätten und in der Industrie. Doch
  wie funktioniert das eigentlich? Referent: David Schramm\n \n Veranstaltu
 ngsort:\n Hybrid: Online und Gemeindehaus Durlach\n Saal\n Am Zwinger 5\n 
 76227 Karlsruhe-Durlach\n KVV Tram 1 Haltestelle Friedrichschule Online-Zu
 gangs-Daten in der Beschreibung Hinweise zur Videokonferenz (Kurzanleitung
  und Datenschutz): Hinweise zur Video-Konferenz.pdf [123.6 kB] Quelle: Eva
 ngelische Erwachsenenbildung Karlsruhe in Kooperation mit Stadtteilkoordin
 ation der\n \n Veranstalter:\n junge alte\n Karlsruhe\n https://www.jungea
 lte.info
DTSTART;TZID=Europe/Berlin:20260507T100000
DTEND;TZID=Europe/Berlin:20260507T113000
LOCATION:Hybrid: Online und Gemeindehaus Durlach\n - Saal\n - Am Zwinger 5
 \n - 76227 Karlsruhe-Durlach\n - KVV Tram 1 Haltestelle Friedrichschule On
 line-Zugangs-Daten in der Beschreibung Hinweise zur Videokonferenz (Kurzan
 leitung und Datenschutz): Hinweise zur Video-Konferenz.pdf [123.6 kB] Quel
 le: Evangelische Erwachsenenbildung Karlsruhe in Kooperation mit Stadtteil
 koordination der
SUMMARY:3D-Druck: Wenn aus dem Nichts etwas entsteht
X-ALT-DESC;FMTTYPE=text/html:Online zugang\n \n \n \n \n Ein Drucker\, der 
 keine Buchstaben\, sondern Dinge produziert – ob Werkzeug\, medizinische I
 mplantate oder Kunst und Schmuck. Was nach Zukunft klingt\, ist längst Tei
 l unseres Alltags: 3D-Drucker arbeiten still und leise in Labors\, Werkstä
 tten und in der Industrie. Doch wie funktioniert das eigentlich?\n \n Refe
 rent: David Schramm<br /><br />Veranstaltungsort: <br />Hybrid: Online und
  Gemeindehaus Durlach<br />Saal<br />Am Zwinger 5<br />76227 Karlsruhe-Dur
 lach<br />KVV Tram 1 Haltestelle Friedrichschule\n \n Online-Zugangs-Daten
  in der Beschreibung\n Hinweise zur Videokonferenz (Kurzanleitung und Date
 nschutz):\n Hinweise zur Video-Konferenz.pdf [123.6 kB]\n Quelle: Evangeli
 sche Erwachsenenbildung Karlsruhe in Kooperation mit Stadtteilkoordination
  der<br /><br />Veranstalter: <br />junge alte<br />Karlsruhe<br />https:/
 /www.jungealte.info
END:VEVENT
END:VCALENDAR
