BEGIN:VCALENDAR
VERSION:2.0
PRODID:-//www.eeb-karlsruhe.de//NONSGML kigkonsult.se iCalcreator 2.41.92//
CALSCALE:GREGORIAN
METHOD:PUBLISH
UID:66626462-3032-4264-a132-653035353166
X-WR-TIMEZONE:Europe/Berlin
X-LIC-LOCATION:Europe/Berlin
BEGIN:VTIMEZONE
TZID:Europe/Berlin
BEGIN:DAYLIGHT
TZOFFSETFROM:+0100
TZOFFSETTO:+0200
TZNAME:CEST
DTSTART:19700329T020000
RRULE:FREQ=YEARLY;BYDAY=-1SU;BYMONTH=3
END:DAYLIGHT
BEGIN:STANDARD
TZOFFSETFROM:+0200
TZOFFSETTO:+0100
TZNAME:CET
DTSTART:19701025T030000
RRULE:FREQ=YEARLY;BYDAY=-1SU;BYMONTH=10
END:STANDARD
END:VTIMEZONE
BEGIN:VEVENT
UID:65656662-3739-4938-a639-343365383330
DTSTAMP:20260421T212734Z
DESCRIPTION:Hans Werner Henze zum 100. Geburtstag\n \n Online zugang Am 1. 
 Juli 2026 jährt sich Hans Werner Henzes Geburtstag zum 100. Mal. Der Musik
 wissenschaftler Knud Breyer führt in das Werk eines der bedeutendsten deut
 schen Komponisten des 20. Jahrhunderts ein. Referent: Prof. Dr. Knud Breye
 r\, Wissenschaftlicher Mitarbeiter am Max-Reger-Institut Karlsruhe\n \n Ve
 ranstaltungsort:\n Hybrid: Online und Gemeindehaus Durlach\n Saal\n Am Zwi
 nger 5\n 76227 Karlsruhe-Durlach\n KVV Tram 1 Haltestelle Friedrichschule 
 Online-Zugangs-Daten in der Beschreibung Hinweise zur Videokonferenz (Kurz
 anleitung und Datenschutz): Hinweise zur Video-Konferenz.pdf [123.6 kB] Qu
 elle: Evangelische Erwachsenenbildung Karlsruhe in Kooperation mit Stadtte
 ilkoordination der\n \n Veranstalter:\n junge alte\n Karlsruhe\n https://w
 ww.jungealte.info
DTSTART;TZID=Europe/Berlin:20260506T100000
DTEND;TZID=Europe/Berlin:20260506T113000
LOCATION:Hybrid: Online und Gemeindehaus Durlach\n - Saal\n - Am Zwinger 5
 \n - 76227 Karlsruhe-Durlach\n - KVV Tram 1 Haltestelle Friedrichschule On
 line-Zugangs-Daten in der Beschreibung Hinweise zur Videokonferenz (Kurzan
 leitung und Datenschutz): Hinweise zur Video-Konferenz.pdf [123.6 kB] Quel
 le: Evangelische Erwachsenenbildung Karlsruhe in Kooperation mit Stadtteil
 koordination der
SUMMARY:'Denn die Musik ist ja ein Verständigungsmittel\, ein Versöhnungsst
 ifter'
X-ALT-DESC;FMTTYPE=text/html:Hans Werner Henze zum 100. Geburtstag<br /><br
  />Online zugang\n \n \n \n \n Am 1. Juli 2026 jährt sich Hans Werner Henz
 es Geburtstag zum 100. Mal. Der Musikwissenschaftler Knud Breyer führt in 
 das Werk eines der bedeutendsten deutschen Komponisten des 20. Jahrhundert
 s ein.\n \n Referent: Prof. Dr. Knud Breyer\, Wissenschaftlicher Mitarbeit
 er am Max-Reger-Institut Karlsruhe<br /><br />Veranstaltungsort: <br />Hyb
 rid: Online und Gemeindehaus Durlach<br />Saal<br />Am Zwinger 5<br />7622
 7 Karlsruhe-Durlach<br />KVV Tram 1 Haltestelle Friedrichschule\n \n Onlin
 e-Zugangs-Daten in der Beschreibung\n Hinweise zur Videokonferenz (Kurzanl
 eitung und Datenschutz):\n Hinweise zur Video-Konferenz.pdf [123.6 kB]\n Q
 uelle: Evangelische Erwachsenenbildung Karlsruhe in Kooperation mit Stadtt
 eilkoordination der<br /><br />Veranstalter: <br />junge alte<br />Karlsru
 he<br />https://www.jungealte.info
END:VEVENT
END:VCALENDAR
