BEGIN:VCALENDAR
VERSION:2.0
PRODID:-//www.eeb-karlsruhe.de//NONSGML kigkonsult.se iCalcreator 2.41.92//
CALSCALE:GREGORIAN
METHOD:PUBLISH
UID:61666134-3466-4838-b965-663261393134
X-WR-TIMEZONE:Europe/Berlin
X-LIC-LOCATION:Europe/Berlin
BEGIN:VTIMEZONE
TZID:Europe/Berlin
BEGIN:DAYLIGHT
TZOFFSETFROM:+0100
TZOFFSETTO:+0200
TZNAME:CEST
DTSTART:19700329T020000
RRULE:FREQ=YEARLY;BYDAY=-1SU;BYMONTH=3
END:DAYLIGHT
BEGIN:STANDARD
TZOFFSETFROM:+0200
TZOFFSETTO:+0100
TZNAME:CET
DTSTART:19701025T030000
RRULE:FREQ=YEARLY;BYDAY=-1SU;BYMONTH=10
END:STANDARD
END:VTIMEZONE
BEGIN:VEVENT
UID:31396466-3236-4466-a437-623037646665
DTSTAMP:20260421T223756Z
DESCRIPTION:Online zugang Das neue Badische Klosterbuch erfasst in drei Bän
 den erstmals alle Klöster und religiösen Gemeinschaften in Baden und Hohen
 zollern. Der Vortrag konzentriert sich regional auf den Raum zwischen Karl
 sruhe\, Pforzheim und Baden-Baden und macht deutlich\, wie stark Klöster k
 ulturell und religiös\, aber auch wirtschaftlich und herrschaftlich ihr rä
 umliches Umfeld prägten. Referent: Prof. Dr. Wolfgang Zimmermann\, Studium
  der Geschichtswissenschaften und der Katholischen Theologie\, leitete bis
  März 2025 das Generallandesarchiv Karlsruhe\; er war stellvertretender Vo
 rsitzender der Kommission für geschichtliche Landeskunde in Baden-Württemb
 erg und ist Mitherausgeber des im Juni 2025 erschienenen dreibändigen „Bad
 ischen Klosterbuchs“.\n \n Veranstaltungsort:\n Hybrid: Online und Gemeind
 ehaus Durlach\n Saal\n Am Zwinger 5\n 76227 Karlsruhe-Durlach\n KVV Tram 1
  Haltestelle Friedrichschule Online-Zugangs-Daten in der Beschreibung Hinw
 eise zur Videokonferenz (Kurzanleitung und Datenschutz): Hinweise zur Vide
 o-Konferenz.pdf [123.6 kB] Quelle: Evangelische Erwachsenenbildung Karlsru
 he in Kooperation mit Stadtteilkoordination der\n \n Veranstalter:\n junge
  alte\n Karlsruhe\n https://www.jungealte.info
DTSTART;TZID=Europe/Berlin:20260430T100000
DTEND;TZID=Europe/Berlin:20260430T113000
LOCATION:Hybrid: Online und Gemeindehaus Durlach\n - Saal\n - Am Zwinger 5
 \n - 76227 Karlsruhe-Durlach\n - KVV Tram 1 Haltestelle Friedrichschule On
 line-Zugangs-Daten in der Beschreibung Hinweise zur Videokonferenz (Kurzan
 leitung und Datenschutz): Hinweise zur Video-Konferenz.pdf [123.6 kB] Quel
 le: Evangelische Erwachsenenbildung Karlsruhe in Kooperation mit Stadtteil
 koordination der
SUMMARY:Von der Schwesternsammlung bis zur Reichsabtei - Das neue Badische 
 Klosterbuch
X-ALT-DESC;FMTTYPE=text/html:Online zugang\n \n \n \n \n Das neue Badische 
 Klosterbuch erfasst in drei Bänden erstmals alle Klöster und religiösen Ge
 meinschaften in Baden und Hohenzollern. Der Vortrag konzentriert sich regi
 onal auf den Raum zwischen Karlsruhe\, Pforzheim und Baden-Baden und macht
  deutlich\, wie stark Klöster kulturell und religiös\, aber auch wirtschaf
 tlich und herrschaftlich ihr räumliches Umfeld prägten.\n \n Referent: Pro
 f. Dr. Wolfgang Zimmermann\, Studium der Geschichtswissenschaften und der 
 Katholischen Theologie\, leitete bis März 2025 das Generallandesarchiv Kar
 lsruhe\; er war stellvertretender Vorsitzender der Kommission für geschich
 tliche Landeskunde in Baden-Württemberg und ist Mitherausgeber des im Juni
  2025 erschienenen dreibändigen „Badischen Klosterbuchs“.<br /><br />Veran
 staltungsort: <br />Hybrid: Online und Gemeindehaus Durlach<br />Saal<br /
 >Am Zwinger 5<br />76227 Karlsruhe-Durlach<br />KVV Tram 1 Haltestelle Fri
 edrichschule\n \n Online-Zugangs-Daten in der Beschreibung\n Hinweise zur 
 Videokonferenz (Kurzanleitung und Datenschutz):\n Hinweise zur Video-Konfe
 renz.pdf [123.6 kB]\n Quelle: Evangelische Erwachsenenbildung Karlsruhe in
  Kooperation mit Stadtteilkoordination der<br /><br />Veranstalter: <br />
 junge alte<br />Karlsruhe<br />https://www.jungealte.info
END:VEVENT
END:VCALENDAR
