BEGIN:VCALENDAR
VERSION:2.0
PRODID:-//www.eeb-karlsruhe.de//NONSGML kigkonsult.se iCalcreator 2.41.92//
CALSCALE:GREGORIAN
METHOD:PUBLISH
UID:34663063-3366-4533-a638-663764303063
X-WR-TIMEZONE:Europe/Berlin
X-LIC-LOCATION:Europe/Berlin
BEGIN:VTIMEZONE
TZID:Europe/Berlin
BEGIN:DAYLIGHT
TZOFFSETFROM:+0100
TZOFFSETTO:+0200
TZNAME:CEST
DTSTART:19700329T020000
RRULE:FREQ=YEARLY;BYDAY=-1SU;BYMONTH=3
END:DAYLIGHT
BEGIN:STANDARD
TZOFFSETFROM:+0200
TZOFFSETTO:+0100
TZNAME:CET
DTSTART:19701025T030000
RRULE:FREQ=YEARLY;BYDAY=-1SU;BYMONTH=10
END:STANDARD
END:VTIMEZONE
BEGIN:VEVENT
UID:65333561-3036-4637-a265-326236383265
DTSTAMP:20260421T224223Z
DESCRIPTION:Online zugang Erleben Sie die dritte Ausgabe des junge alte Poe
 try Slam\, präsentiert von „Die Landkulturschaffenden Südwest“. Verschiede
 ne Wortkünstler*innen tragen ihre je eigenen Texte in einem sehr knappen\,
  wenige Minuten umfassenden Zeitlimit vor. Das Publikum entscheidet\, wer 
 Sieger*in wird. Referent*innen: Sarah Angelmahr\, Wachenheim\, Georg Felsb
 erg\, Stuttgart\, Christiane Stork\, Grötzingen\, Gastbeitrag Anke Henz\, 
 Karlsruhe\, Moderation Gusto\, Herxheim. Verein „Die Landkulturschaffenden
  Südwest“ dlks.eu.\n \n Veranstaltungsort:\n Hybrid: Online und Gemeindeha
 us Durlach\n Saal\n Am Zwinger 5\n 76227 Karlsruhe-Durlach\n KVV Tram 1 Ha
 ltestelle Friedrichschule Online-Zugangs-Daten in der Beschreibung Hinweis
 e zur Videokonferenz (Kurzanleitung und Datenschutz): Hinweise zur Video-K
 onferenz.pdf [123.6 kB] Quelle: Evangelische Erwachsenenbildung Karlsruhe 
 in Kooperation mit Stadtteilkoordination der\n \n Veranstalter:\n junge al
 te\n Karlsruhe\n https://www.jungealte.info
DTSTART;TZID=Europe/Berlin:20260429T100000
DTEND;TZID=Europe/Berlin:20260429T113000
LOCATION:Hybrid: Online und Gemeindehaus Durlach\n - Saal\n - Am Zwinger 5
 \n - 76227 Karlsruhe-Durlach\n - KVV Tram 1 Haltestelle Friedrichschule On
 line-Zugangs-Daten in der Beschreibung Hinweise zur Videokonferenz (Kurzan
 leitung und Datenschutz): Hinweise zur Video-Konferenz.pdf [123.6 kB] Quel
 le: Evangelische Erwachsenenbildung Karlsruhe in Kooperation mit Stadtteil
 koordination der
SUMMARY:Der junge alte Poetry Slam - ein vielfältiger Dichterwettstreit für
  alle Generationen
X-ALT-DESC;FMTTYPE=text/html:Online zugang\n \n \n \n \n Erleben Sie die dr
 itte Ausgabe des junge alte Poetry Slam\, präsentiert von „Die Landkulturs
 chaffenden Südwest“. Verschiedene Wortkünstler*innen tragen ihre je eigene
 n Texte in einem sehr knappen\, wenige Minuten umfassenden Zeitlimit vor.
 \n Das Publikum entscheidet\, wer Sieger*in wird.\n \n Referent*innen: Sar
 ah Angelmahr\, Wachenheim\, Georg Felsberg\, Stuttgart\, Christiane Stork\
 , Grötzingen\, Gastbeitrag Anke Henz\, Karlsruhe\, Moderation Gusto\, Herx
 heim.\n Verein „Die Landkulturschaffenden Südwest“ dlks.eu.<br /><br />Ver
 anstaltungsort: <br />Hybrid: Online und Gemeindehaus Durlach<br />Saal<br
  />Am Zwinger 5<br />76227 Karlsruhe-Durlach<br />KVV Tram 1 Haltestelle F
 riedrichschule\n \n Online-Zugangs-Daten in der Beschreibung\n Hinweise zu
 r Videokonferenz (Kurzanleitung und Datenschutz):\n Hinweise zur Video-Kon
 ferenz.pdf [123.6 kB]\n Quelle: Evangelische Erwachsenenbildung Karlsruhe 
 in Kooperation mit Stadtteilkoordination der<br /><br />Veranstalter: <br 
 />junge alte<br />Karlsruhe<br />https://www.jungealte.info
END:VEVENT
END:VCALENDAR
