BEGIN:VCALENDAR
VERSION:2.0
PRODID:-//www.eeb-karlsruhe.de//NONSGML kigkonsult.se iCalcreator 2.41.92//
CALSCALE:GREGORIAN
METHOD:PUBLISH
UID:33626139-3431-4132-b930-636365316265
X-WR-TIMEZONE:Europe/Berlin
X-LIC-LOCATION:Europe/Berlin
BEGIN:VTIMEZONE
TZID:Europe/Berlin
BEGIN:DAYLIGHT
TZOFFSETFROM:+0100
TZOFFSETTO:+0200
TZNAME:CEST
DTSTART:19700329T020000
RRULE:FREQ=YEARLY;BYDAY=-1SU;BYMONTH=3
END:DAYLIGHT
BEGIN:STANDARD
TZOFFSETFROM:+0200
TZOFFSETTO:+0100
TZNAME:CET
DTSTART:19701025T030000
RRULE:FREQ=YEARLY;BYDAY=-1SU;BYMONTH=10
END:STANDARD
END:VTIMEZONE
BEGIN:VEVENT
UID:65643766-6438-4639-b737-313861353437
DTSTAMP:20260421T223736Z
DESCRIPTION:Online zugang Die Idee\, Konflikte auf der Ebene einer internat
 ionalen Vertretung von Staaten beizulegen\, um eine Friedensordnung zu eta
 blieren\, kam bereits Ende des 19. Jahrhunderts auf. Sie trug der Einsicht
  Rechnung\, dass sich in einer wirtschaftlich\, finanziell und wissenschaf
 tlich immer enger verflochtenen Welt Konflikte nicht mehr national und bil
 ateral lösen ließen. Referentin: Professor Dr. Angela Borgstedt\, Historis
 ches Institut der Universität Mannheim\, Leiterin der Forschungsstelle Wid
 erstand\n \n Veranstaltungsort:\n Hybrid: Online und Gemeindehaus Durlach
 \n Saal\n Am Zwinger 5\n 76227 Karlsruhe-Durlach\n KVV Tram 1 Haltestelle 
 Friedrichschule Online-Zugangs-Daten in der Beschreibung Hinweise zur Vide
 okonferenz (Kurzanleitung und Datenschutz): Hinweise zur Video-Konferenz.p
 df [123.6 kB] Quelle: Evangelische Erwachsenenbildung Karlsruhe in Koopera
 tion mit Stadtteilkoordination der\n \n Veranstalter:\n junge alte\n Karls
 ruhe\n https://www.jungealte.info
DTSTART;TZID=Europe/Berlin:20260422T100000
DTEND;TZID=Europe/Berlin:20260422T113000
LOCATION:Hybrid: Online und Gemeindehaus Durlach\n - Saal\n - Am Zwinger 5
 \n - 76227 Karlsruhe-Durlach\n - KVV Tram 1 Haltestelle Friedrichschule On
 line-Zugangs-Daten in der Beschreibung Hinweise zur Videokonferenz (Kurzan
 leitung und Datenschutz): Hinweise zur Video-Konferenz.pdf [123.6 kB] Quel
 le: Evangelische Erwachsenenbildung Karlsruhe in Kooperation mit Stadtteil
 koordination der
SUMMARY:Deutschlands Beitritt zum Völkerbund 1926
X-ALT-DESC;FMTTYPE=text/html:Online zugang\n \n \n \n \n Die Idee\, Konflik
 te auf der Ebene einer internationalen Vertretung von Staaten beizulegen\,
  um eine Friedensordnung zu etablieren\, kam bereits Ende des 19. Jahrhund
 erts auf. Sie trug der Einsicht Rechnung\, dass sich in einer wirtschaftli
 ch\, finanziell und wissenschaftlich immer enger verflochtenen Welt Konfli
 kte nicht mehr national und bilateral lösen ließen.\n \n Referentin: Profe
 ssor Dr. Angela Borgstedt\, Historisches Institut der Universität Mannheim
 \, Leiterin der Forschungsstelle Widerstand<br /><br />Veranstaltungsort: 
 <br />Hybrid: Online und Gemeindehaus Durlach<br />Saal<br />Am Zwinger 5<
 br />76227 Karlsruhe-Durlach<br />KVV Tram 1 Haltestelle Friedrichschule\n
  \n Online-Zugangs-Daten in der Beschreibung\n Hinweise zur Videokonferenz
  (Kurzanleitung und Datenschutz):\n Hinweise zur Video-Konferenz.pdf [123.
 6 kB]\n Quelle: Evangelische Erwachsenenbildung Karlsruhe in Kooperation m
 it Stadtteilkoordination der<br /><br />Veranstalter: <br />junge alte<br 
 />Karlsruhe<br />https://www.jungealte.info
END:VEVENT
END:VCALENDAR
