BEGIN:VCALENDAR
VERSION:2.0
PRODID:-//www.eeb-karlsruhe.de//NONSGML kigkonsult.se iCalcreator 2.41.92//
CALSCALE:GREGORIAN
METHOD:PUBLISH
UID:39306437-3965-4630-b734-336364333236
X-WR-TIMEZONE:Europe/Berlin
X-LIC-LOCATION:Europe/Berlin
BEGIN:VTIMEZONE
TZID:Europe/Berlin
BEGIN:DAYLIGHT
TZOFFSETFROM:+0100
TZOFFSETTO:+0200
TZNAME:CEST
DTSTART:19700329T020000
RRULE:FREQ=YEARLY;BYDAY=-1SU;BYMONTH=3
END:DAYLIGHT
BEGIN:STANDARD
TZOFFSETFROM:+0200
TZOFFSETTO:+0100
TZNAME:CET
DTSTART:19701025T030000
RRULE:FREQ=YEARLY;BYDAY=-1SU;BYMONTH=10
END:STANDARD
END:VTIMEZONE
BEGIN:VEVENT
UID:33313631-6439-4462-b935-323033623565
DTSTAMP:20260421T223659Z
DESCRIPTION:Was war und wie entstand die Technische Hochschule Karlsruhe? A
 uf einem Rundgang wird die Genese der in diesem Jahr 200 Jahre alt geworde
 nen Vorgängerinstitution des KIT erfahrbar. Führung: Dr. Klaus Nippert\, L
 eiter KIT-Archiv und Schriftgutmanagement\n \n Veranstaltungsort:\n KIT Ca
 mpus Süd\n \n Veranstalter:\n junge alte\n Karlsruhe\n https://www.jungeal
 te.info
DTSTART;TZID=Europe/Berlin:20260707T100000
DTEND;TZID=Europe/Berlin:20260707T113000
LOCATION:KIT Campus Süd
SUMMARY:Historische Führung über den KIT Campus Süd
X-ALT-DESC;FMTTYPE=text/html:Was war und wie entstand die Technische Hochsc
 hule Karlsruhe? Auf einem Rundgang wird die Genese der in diesem Jahr 200 
 Jahre alt gewordenen Vorgängerinstitution des KIT erfahrbar.\n \n Führung:
  Dr. Klaus Nippert\, Leiter KIT-Archiv und Schriftgutmanagement<br /><br /
 >Veranstaltungsort: <br />KIT Campus Süd<br /><br />Veranstalter: <br />ju
 nge alte<br />Karlsruhe<br />https://www.jungealte.info
END:VEVENT
END:VCALENDAR
