BEGIN:VCALENDAR
VERSION:2.0
PRODID:-//www.eeb-karlsruhe.de//NONSGML kigkonsult.se iCalcreator 2.41.92//
CALSCALE:GREGORIAN
METHOD:PUBLISH
UID:62373066-3036-4237-a331-366565383066
X-WR-TIMEZONE:Europe/Berlin
X-LIC-LOCATION:Europe/Berlin
BEGIN:VTIMEZONE
TZID:Europe/Berlin
BEGIN:DAYLIGHT
TZOFFSETFROM:+0100
TZOFFSETTO:+0200
TZNAME:CEST
DTSTART:19700329T020000
RRULE:FREQ=YEARLY;BYDAY=-1SU;BYMONTH=3
END:DAYLIGHT
BEGIN:STANDARD
TZOFFSETFROM:+0200
TZOFFSETTO:+0100
TZNAME:CET
DTSTART:19701025T030000
RRULE:FREQ=YEARLY;BYDAY=-1SU;BYMONTH=10
END:STANDARD
END:VTIMEZONE
BEGIN:VEVENT
UID:33373465-6439-4062-a137-653165343064
DTSTAMP:20260421T112815Z
DESCRIPTION:Worms kann auf eine 1000jährige Geschichte der jüdischen Gemein
 de zurückblicken. Besonders der jüdische Friedhof „Heiliger Sand“ mit sein
 en ca. 2000 Grabsteinen\, die bis in die Mitte des 11. Jahrhunderts zurück
 reichen\, ist ein herausragendes Zentrum des Gedenkens für jüdische Mensch
 en aus der ganzen Welt.\n \n Veranstaltungsort:\n Worms\n \n Veranstalter:
 \n junge alte\n Karlsruhe\n https://www.jungealte.info
DTSTART;TZID=Europe/Berlin:20260423T100000
DTEND;TZID=Europe/Berlin:20260423T113000
LOCATION:Worms
SUMMARY:Die jüdischen Stätten in Worms 
X-ALT-DESC;FMTTYPE=text/html:Worms kann auf eine 1000jährige Geschichte der
  jüdischen Gemeinde zurückblicken. Besonders der jüdische Friedhof „Heilig
 er Sand“ mit seinen ca. 2000 Grabsteinen\, die bis in die Mitte des 11. Ja
 hrhunderts zurückreichen\, ist ein herausragendes Zentrum des Gedenkens fü
 r jüdische Menschen aus der ganzen Welt.<br /><br />Veranstaltungsort: <br
  />Worms<br /><br />Veranstalter: <br />junge alte<br />Karlsruhe<br />htt
 ps://www.jungealte.info
END:VEVENT
END:VCALENDAR
