BEGIN:VCALENDAR
VERSION:2.0
PRODID:-//www.eeb-karlsruhe.de//NONSGML kigkonsult.se iCalcreator 2.41.92//
CALSCALE:GREGORIAN
METHOD:PUBLISH
UID:33626133-3232-4565-a333-306632333763
X-WR-TIMEZONE:Europe/Berlin
X-LIC-LOCATION:Europe/Berlin
BEGIN:VTIMEZONE
TZID:Europe/Berlin
BEGIN:DAYLIGHT
TZOFFSETFROM:+0100
TZOFFSETTO:+0200
TZNAME:CEST
DTSTART:19700329T020000
RRULE:FREQ=YEARLY;BYDAY=-1SU;BYMONTH=3
END:DAYLIGHT
BEGIN:STANDARD
TZOFFSETFROM:+0200
TZOFFSETTO:+0100
TZNAME:CET
DTSTART:19701025T030000
RRULE:FREQ=YEARLY;BYDAY=-1SU;BYMONTH=10
END:STANDARD
END:VTIMEZONE
BEGIN:VEVENT
UID:39396564-3234-4365-a431-643033616330
DTSTAMP:20260421T124113Z
DESCRIPTION:Gottesbeweise – Argumente für die Existenz Gottes?\n \n Lässt s
 ich Gott (mit vernünftigen Argumenten) beweisen oder zumindest plausibilis
 ieren? Durch reines Denken - oder ausgehend von der Erfahrung? Wir lernen 
 verschiedene 'Gottesbeweise' der Tradition kennen\, wägen ihre Plausibilit
 ät ab und kommen darüber ins Gespräch.\n \n Veranstaltungsort:\n Online-Ve
 ranstaltung\n \n Veranstalter:\n EEB Karlsruhe\n Telefon: 0721 1671201
DTSTART;TZID=Europe/Berlin:20260423T190000
DTEND;TZID=Europe/Berlin:20260423T203000
LOCATION:Online-Veranstaltung
SUMMARY:Online-Reihe: GLAUBEN DENKEN
X-ALT-DESC;FMTTYPE=text/html:Gottesbeweise – Argumente für die Existenz Got
 tes?<br /><br />Lässt sich Gott (mit vernünftigen Argumenten) beweisen ode
 r zumindest plausibilisieren? Durch reines Denken - oder ausgehend von der
  Erfahrung? Wir lernen verschiedene 'Gottesbeweise' der Tradition kennen\,
  wägen ihre Plausibilität ab und kommen darüber ins Gespräch.<br /><br />V
 eranstaltungsort: <br />Online-Veranstaltung<br /><br />Veranstalter: <br 
 />EEB Karlsruhe<br />Telefon: 0721 1671201
END:VEVENT
END:VCALENDAR
