BEGIN:VCALENDAR
VERSION:2.0
PRODID:-//www.eeb-karlsruhe.de//NONSGML kigkonsult.se iCalcreator 2.41.92//
CALSCALE:GREGORIAN
METHOD:PUBLISH
UID:30393538-3532-4532-b534-393138396438
X-WR-TIMEZONE:Europe/Berlin
X-LIC-LOCATION:Europe/Berlin
BEGIN:VTIMEZONE
TZID:Europe/Berlin
BEGIN:DAYLIGHT
TZOFFSETFROM:+0100
TZOFFSETTO:+0200
TZNAME:CEST
DTSTART:19700329T020000
RRULE:FREQ=YEARLY;BYDAY=-1SU;BYMONTH=3
END:DAYLIGHT
BEGIN:STANDARD
TZOFFSETFROM:+0200
TZOFFSETTO:+0100
TZNAME:CET
DTSTART:19701025T030000
RRULE:FREQ=YEARLY;BYDAY=-1SU;BYMONTH=10
END:STANDARD
END:VTIMEZONE
BEGIN:VEVENT
UID:36633636-3161-4233-b163-623037306333
DTSTAMP:20260422T135934Z
DESCRIPTION:Einführung und Sensibilisierung für Seelsorgende\n \n Diese Ver
 anstaltung für hauptamtliche und qualifizierte ehrenamtliche Seelsorger*in
 nen will zunächst in die Begrifflichkeit queerer Lebenswelten einführen\, 
 (kirchen-)rechtliche Regelungen und gesellschaftliche Entwicklungen darste
 llen. Mit diesem Basiswissen sollen dann erste Seelsorgesituationen reflek
 tiert und die Queersensibiliät in der eigenen Seelsorgepraxis gestärkt wer
 den.\n \n Veranstaltungsort:\n Online-Angebot\n \n Veranstalter:\n Diverse
  Veranstalter*innen
DTSTART;TZID=Europe/Berlin:20260424T150000
DTEND;TZID=Europe/Berlin:20260424T180000
LOCATION:Online-Angebot
SUMMARY:Bi - trans - queer... LGBTIQA+
X-ALT-DESC;FMTTYPE=text/html:Einführung und Sensibilisierung für Seelsorgen
 de<br /><br />Diese Veranstaltung für hauptamtliche und qualifizierte ehre
 namtliche Seelsorger*innen will zunächst in die Begrifflichkeit queerer Le
 benswelten einführen\, (kirchen-)rechtliche Regelungen und gesellschaftlic
 he Entwicklungen darstellen. Mit diesem Basiswissen sollen dann erste Seel
 sorgesituationen reflektiert und die Queersensibiliät in der eigenen Seels
 orgepraxis gestärkt werden.<br /><br />Veranstaltungsort: <br />Online-Ang
 ebot<br /><br />Veranstalter: <br />Diverse Veranstalter*innen
END:VEVENT
END:VCALENDAR
