BEGIN:VCALENDAR
VERSION:2.0
PRODID:-//www.eeb-karlsruhe.de//NONSGML kigkonsult.se iCalcreator 2.41.92//
CALSCALE:GREGORIAN
METHOD:PUBLISH
UID:37343565-3837-4663-a363-393530313537
X-WR-TIMEZONE:Europe/Berlin
X-LIC-LOCATION:Europe/Berlin
BEGIN:VTIMEZONE
TZID:Europe/Berlin
BEGIN:DAYLIGHT
TZOFFSETFROM:+0100
TZOFFSETTO:+0200
TZNAME:CEST
DTSTART:19700329T020000
RRULE:FREQ=YEARLY;BYDAY=-1SU;BYMONTH=3
END:DAYLIGHT
BEGIN:STANDARD
TZOFFSETFROM:+0200
TZOFFSETTO:+0100
TZNAME:CET
DTSTART:19701025T030000
RRULE:FREQ=YEARLY;BYDAY=-1SU;BYMONTH=10
END:STANDARD
END:VTIMEZONE
BEGIN:VEVENT
UID:37316233-3739-4763-b430-613031373563
DTSTAMP:20260421T112900Z
DESCRIPTION:AUSGEBUCHT! Anmeldung auf Warteliste möglich\n \n Die Lagunenst
 adt Venedig hat einen einzigartigen Charme: Rialtobrücke und Markusplatz\,
  Seufzerbrücke\, das Wege- und Kanalgewirr der Sestiere – Bilder einer Sta
 dt auf Wasser\, die anders ist.\n \n Veranstaltungsort:\n Venedig\n \n Ver
 anstalter:\n Evang. Erwachsenenbildung (EEB)\n Schnewlinstraße 2\n 79098 F
 reiburg\n Telefon: +49 761 205 741-152\n https://erwachsenenbildung-freibu
 rg.de/
DTSTART;VALUE=DATE:20260421
DTEND;VALUE=DATE:20260427
LOCATION:Venedig
SUMMARY:Venedig: Die Kunst einer Stadt auf dem Wasser
X-ALT-DESC;FMTTYPE=text/html:AUSGEBUCHT! Anmeldung auf Warteliste möglich<b
 r /><br />Die Lagunenstadt Venedig hat einen einzigartigen Charme: Rialtob
 rücke und Markusplatz\, Seufzerbrücke\, das Wege- und Kanalgewirr der Sest
 iere – Bilder einer Stadt auf Wasser\, die anders ist.<br /><br />Veransta
 ltungsort: <br />Venedig<br /><br />Veranstalter: <br />Evang. Erwachsenen
 bildung (EEB)<br />Schnewlinstraße 2<br />79098 Freiburg<br />Telefon: +49
  761 205 741-152<br />https://erwachsenenbildung-freiburg.de/
END:VEVENT
END:VCALENDAR
