BEGIN:VCALENDAR
VERSION:2.0
PRODID:-//www.eeb-karlsruhe.de//NONSGML kigkonsult.se iCalcreator 2.41.92//
CALSCALE:GREGORIAN
METHOD:PUBLISH
UID:66303361-3938-4661-b662-613262626233
X-WR-TIMEZONE:Europe/Berlin
X-LIC-LOCATION:Europe/Berlin
BEGIN:VTIMEZONE
TZID:Europe/Berlin
BEGIN:DAYLIGHT
TZOFFSETFROM:+0100
TZOFFSETTO:+0200
TZNAME:CEST
DTSTART:19700329T020000
RRULE:FREQ=YEARLY;BYDAY=-1SU;BYMONTH=3
END:DAYLIGHT
BEGIN:STANDARD
TZOFFSETFROM:+0200
TZOFFSETTO:+0100
TZNAME:CET
DTSTART:19701025T030000
RRULE:FREQ=YEARLY;BYDAY=-1SU;BYMONTH=10
END:STANDARD
END:VTIMEZONE
BEGIN:VEVENT
UID:64616331-6363-4436-b563-636565656261
DTSTAMP:20260424T130057Z
DESCRIPTION:Emil Nolde\, Landschaft. 1916\n \n Weitere Termine:\n So. 07.06
 .2026\, 15:30 Uhr\n \n Kunst und Religion stehen in einem engen Zusammenha
 ng. Die Führungen „Kunst und Kirche“ widmen sich der wechselseitigen Ersch
 ließung der Schätze der Kunsthalle und bieten die Gelegenheit\, diese mit 
 den Augen gelebten Glaubens und in theologischer Reflexion wahrzunehmen un
 d so in einen Dialog zu kommen.\n \n Veranstaltungsort:\n ZKM Zentrum für 
 Kunst und Medien\n Lorenzstraße 19\n 76135 Karlsruhe\n \n Veranstalter:\n 
 Arbeitsgemeinschaft christlicher Kirchen (ACK)\, Bildungszentrum Roncalli-
 Forum Karlsruhe\, EEB Karlsruhe und Staatliche Kunsthalle Karlsruhe in Koo
 peration\n http://www.eeb-karlsruhe.de
DTSTART;TZID=Europe/Berlin:20260426T150000
DTEND;TZID=Europe/Berlin:20260426T163000
LOCATION:ZKM Zentrum für Kunst und Medien\n - Lorenzstraße 19\n - 76135 Kar
 lsruhe
SUMMARY:Kunst und Kirche - Führung in der KunsthalleKarlsruhe@ZKM
X-ALT-DESC;FMTTYPE=text/html:Emil Nolde\, Landschaft. 1916<br /><br />Weite
 re Termine:<br />So. 07.06.2026\, 15:30 Uhr<br /><br />Kunst und Religion 
 stehen in einem engen Zusammenhang. Die Führungen „Kunst und Kirche“ widme
 n sich der wechselseitigen Erschließung der Schätze der Kunsthalle und bie
 ten die Gelegenheit\, diese mit den Augen gelebten Glaubens und in theolog
 ischer Reflexion wahrzunehmen und so in einen Dialog zu kommen.<br /><br /
 >Veranstaltungsort: <br />ZKM | Zentrum für Kunst und Medien<br />Lorenzst
 raße 19<br />76135 Karlsruhe<br /><br />Veranstalter: <br />Arbeitsgemeins
 chaft christlicher Kirchen (ACK)\, Bildungszentrum Roncalli-Forum Karlsruh
 e\, EEB Karlsruhe und Staatliche Kunsthalle Karlsruhe in Kooperation<br />
 http://www.eeb-karlsruhe.de
END:VEVENT
END:VCALENDAR
