BEGIN:VCALENDAR
VERSION:2.0
PRODID:-//www.eeb-karlsruhe.de//NONSGML kigkonsult.se iCalcreator 2.41.92//
CALSCALE:GREGORIAN
METHOD:PUBLISH
UID:36323039-6333-4866-a334-643335363961
X-WR-TIMEZONE:Europe/Berlin
X-LIC-LOCATION:Europe/Berlin
BEGIN:VTIMEZONE
TZID:Europe/Berlin
BEGIN:DAYLIGHT
TZOFFSETFROM:+0100
TZOFFSETTO:+0200
TZNAME:CEST
DTSTART:19700329T020000
RRULE:FREQ=YEARLY;BYDAY=-1SU;BYMONTH=3
END:DAYLIGHT
BEGIN:STANDARD
TZOFFSETFROM:+0200
TZOFFSETTO:+0100
TZNAME:CET
DTSTART:19701025T030000
RRULE:FREQ=YEARLY;BYDAY=-1SU;BYMONTH=10
END:STANDARD
END:VTIMEZONE
BEGIN:VEVENT
UID:62343764-3565-4262-b831-643464343364
DTSTAMP:20260424T140920Z
DESCRIPTION:Weitere Termine:\n So. 26.04.2026\, 15:00 bis 16:30 Uhr\n \n Ku
 nst und Religion stehen in einem engen Zusammenhang. Die Führungen „Kunst 
 und Kirche“ widmen sich der wechselseitigen Erschließung der Schätze der K
 unsthalle und bieten die Gelegenheit\, diese mit den Augen gelebten Glaube
 ns und in theologischer Reflexion wahrzunehmen und so in einen Dialog zu k
 ommen. Kunstwerk: Karl Schmidt-Rottluff\, Die weiße Treppe (1929)\n \n Ver
 anstaltungsort:\n ZKM Zentrum für Kunst und Medien\n Lorenzstraße 19\n 761
 35 Karlsruhe\n \n Veranstalter:\n Arbeitsgemeinschaft christlicher Kirchen
  (ACK)\, Bildungszentrum Roncalli-Forum Karlsruhe\, EEB Karlsruhe und Staa
 tliche Kunsthalle Karlsruhe in Kooperation\n http://www.eeb-karlsruhe.de
DTSTART;TZID=Europe/Berlin:20260607T153000
DTEND;TZID=Europe/Berlin:20260607T170000
LOCATION:ZKM Zentrum für Kunst und Medien\n - Lorenzstraße 19\n - 76135 Kar
 lsruhe
SUMMARY:Kunst und Kirche - Führung in der KunsthalleKarlsruhe@ZKM
X-ALT-DESC;FMTTYPE=text/html:Weitere Termine:<br />So. 26.04.2026\, 15:00 b
 is 16:30 Uhr<br /><br />Kunst und Religion stehen in einem engen Zusammenh
 ang. Die Führungen „Kunst und Kirche“ widmen sich der wechselseitigen Ersc
 hließung der Schätze der Kunsthalle und bieten die Gelegenheit\, diese mit
  den Augen gelebten Glaubens und in theologischer Reflexion wahrzunehmen u
 nd so in einen Dialog zu kommen.\n Kunstwerk: Karl Schmidt-Rottluff\, Die 
 weiße Treppe (1929)<br /><br />Veranstaltungsort: <br />ZKM | Zentrum für 
 Kunst und Medien<br />Lorenzstraße 19<br />76135 Karlsruhe<br /><br />Vera
 nstalter: <br />Arbeitsgemeinschaft christlicher Kirchen (ACK)\, Bildungsz
 entrum Roncalli-Forum Karlsruhe\, EEB Karlsruhe und Staatliche Kunsthalle 
 Karlsruhe in Kooperation<br />http://www.eeb-karlsruhe.de
END:VEVENT
END:VCALENDAR
