BEGIN:VCALENDAR
VERSION:2.0
PRODID:-//www.eeb-karlsruhe.de//NONSGML kigkonsult.se iCalcreator 2.41.92//
CALSCALE:GREGORIAN
METHOD:PUBLISH
UID:31626133-3834-4330-a536-386235346262
X-WR-TIMEZONE:Europe/Berlin
X-LIC-LOCATION:Europe/Berlin
BEGIN:VTIMEZONE
TZID:Europe/Berlin
BEGIN:DAYLIGHT
TZOFFSETFROM:+0100
TZOFFSETTO:+0200
TZNAME:CEST
DTSTART:19700329T020000
RRULE:FREQ=YEARLY;BYDAY=-1SU;BYMONTH=3
END:DAYLIGHT
BEGIN:STANDARD
TZOFFSETFROM:+0200
TZOFFSETTO:+0100
TZNAME:CET
DTSTART:19701025T030000
RRULE:FREQ=YEARLY;BYDAY=-1SU;BYMONTH=10
END:STANDARD
END:VTIMEZONE
BEGIN:VEVENT
UID:38613034-6430-4230-b235-633362636463
DTSTAMP:20260425T110008Z
DESCRIPTION:Nach der Wahl... und jetzt...?\n \n Nach unseren Multiplikator*
 innenschulungen 'Orte für Demokratie' laden wir nach der Landtagswahl alle
  Demokratiebewegten zu einem Austauschtreffen ein.\n \n Veranstaltungsort:
 \n Online\n \n Veranstalter:\n Evangelische Akademie Baden\n Blumenstraße 
 1-7\n 76133 Karlsruhe\n www.ev-akademie-baden.de
DTSTART;TZID=Europe/Berlin:20260429T180000
DTEND;TZID=Europe/Berlin:20260429T193000
LOCATION:Online
SUMMARY:Austauschtreffen Demokratie
X-ALT-DESC;FMTTYPE=text/html:Nach der Wahl... und jetzt...?<br /><br />Nach
  unseren Multiplikator*innenschulungen 'Orte für Demokratie' laden wir nac
 h der Landtagswahl alle Demokratiebewegten zu einem Austauschtreffen ein.<
 br /><br />Veranstaltungsort: <br />Online<br /><br />Veranstalter: <br />
 Evangelische Akademie Baden<br />Blumenstraße 1-7<br />76133 Karlsruhe<br 
 />www.ev-akademie-baden.de
END:VEVENT
END:VCALENDAR
